BEGIN:VCALENDAR
VERSION:2.0
PRODID:-//Association Temps Libre - ECPv6.2.9//NONSGML v1.0//EN
CALSCALE:GREGORIAN
METHOD:PUBLISH
X-ORIGINAL-URL:https://www.temps-libre.org
X-WR-CALDESC:évènements pour Association Temps Libre
REFRESH-INTERVAL;VALUE=DURATION:PT1H
X-Robots-Tag:noindex
X-PUBLISHED-TTL:PT1H
BEGIN:VTIMEZONE
TZID:Europe/Paris
BEGIN:DAYLIGHT
TZOFFSETFROM:+0100
TZOFFSETTO:+0200
TZNAME:CEST
DTSTART:20230326T010000
END:DAYLIGHT
BEGIN:STANDARD
TZOFFSETFROM:+0200
TZOFFSETTO:+0100
TZNAME:CET
DTSTART:20231029T010000
END:STANDARD
BEGIN:DAYLIGHT
TZOFFSETFROM:+0100
TZOFFSETTO:+0200
TZNAME:CEST
DTSTART:20240331T010000
END:DAYLIGHT
BEGIN:STANDARD
TZOFFSETFROM:+0200
TZOFFSETTO:+0100
TZNAME:CET
DTSTART:20241027T010000
END:STANDARD
END:VTIMEZONE
BEGIN:VEVENT
DTSTART;TZID=Europe/Paris:20240601T100000
DTEND;TZID=Europe/Paris:20240601T133000
DTSTAMP:20260424T210405
CREATED:20240507T065213Z
LAST-MODIFIED:20240507T065213Z
UID:10001190-1717236000-1717248600@www.temps-libre.org
SUMMARY:LA GUINGUETTE DES PITCHOUNS au jardin pédagogique l'ORTALET
DESCRIPTION:Les plus petits aussi ont droit à leur guinguette à Temps Libre… \nCette année elle aura lieu le 1ier juin de 10h à 13h30.  \nComme toujours\, c’est gratuit \nMais cela demande une réservation auprès du RPE (rpe@temps-libre.org). \nCette année c’est la compagnie la Gamme qui nous fera voyager.  \nAttention\, chaque destination sera prétexte à l’évocation d’un univers sensoriel. \nLe spectacle est d’une durée de 30 minutes et sera suivi de jeux d’eau et d’un temps pique-nique tiré du sac.
URL:https://www.temps-libre.org/evenement/la-guinguette-des-pitchouns-au-jardin-pedagogique-lortalet/
LOCATION:Jardin l’Ortalet\, chemin de tavillan\, Saint-Geniès de Malgoirès\, 30190\, France
END:VEVENT
BEGIN:VEVENT
DTSTART;TZID=Europe/Paris:20240521T200000
DTEND;TZID=Europe/Paris:20240521T200000
DTSTAMP:20260424T210405
CREATED:20240507T064511Z
LAST-MODIFIED:20240507T064723Z
UID:10001189-1716321600-1716321600@www.temps-libre.org
SUMMARY:SOIREE CAUSETTE "LES REFLEXES ARCHAIQUES"
DESCRIPTION:« Les réflexes archaïques sont des mouvements involontaires avec lesquels nous naissons tous. \nProvoqués par des stimuli extérieurs\, ils ont pour vocation d’assurer notre survie durant les premiers mois de nos vies de bébés. \nCes mouvements réflexes sont à la base de notre développement cognitif\, émotionnel et physique. \nLes réflexes archaïques non intégrés impactent le développement moteur de l’enfant\, mais aussi son développement cognitif et émotionnel. \nIls sont souvent liés aux troubles des apprentissages et de comportement. \nDécouvrez les réflexes archaïques et comment aider à leur intégration pour accompagner l’enfant vers son plein potentiel.”
URL:https://www.temps-libre.org/evenement/soiree-causette-les-reflexes-archaiques/
LOCATION:POLE ENFANCE JEUNESSE
END:VEVENT
BEGIN:VEVENT
DTSTART;TZID=Europe/Paris:20240318T080000
DTEND;TZID=Europe/Paris:20240323T170000
DTSTAMP:20260424T210405
CREATED:20240306T084249Z
LAST-MODIFIED:20240306T084249Z
UID:10001178-1710748800-1711213200@www.temps-libre.org
SUMMARY:Semaine Nationale PETITE ENFANCE
DESCRIPTION:
URL:https://www.temps-libre.org/evenement/semaine-nationale-petite-enfance/
LOCATION:Espace Socio Culturel Temps Libre
END:VEVENT
BEGIN:VEVENT
DTSTART;TZID=Europe/Paris:20231212T200000
DTEND;TZID=Europe/Paris:20231212T220000
DTSTAMP:20260424T210405
CREATED:20231127T111607Z
LAST-MODIFIED:20231127T111859Z
UID:10001140-1702411200-1702418400@www.temps-libre.org
SUMMARY:Soirée Causette L'Ostéopathie Pédiatrique
DESCRIPTION:Le 12 décembre au Pôle Enfance Jeunesse\, 38 avenue de la gare à St Geniès de Malgoirès\,de 20h à 22h\, le RPE de l’Association Temps Libre  vous propose de venir participer à une soirée causette sur la thématique de l’ostéopathie pédiatrique animée par Christelle Gaudard\,ostéopathe à Sauzet\, spécialisée en pédiatrie et périnatalité. \nLors de cette soirée l’intervenante détaillera les périodes clefs durant les deux premières années de la vie du jeune enfant avec un zoom sur différents sujets tels que les déformations positionnelles du crâne\, la motricité libre\, les réflexes primitifs du développement moteur ou encore comment aider le jeune enfants dans ses apprentissages… \nChristelle essayera de de répondre à toutes vos questions\, et vous partagera les conseils les plus fréquemment donnés à son cabinet.
URL:https://www.temps-libre.org/evenement/soiree-causette-losteopathie-pediatrique/
LOCATION:POLE ENFANCE JEUNESSE
END:VEVENT
BEGIN:VEVENT
DTSTART;TZID=Europe/Paris:20231206T093000
DTEND;TZID=Europe/Paris:20231206T133000
DTSTAMP:20260424T210405
CREATED:20231127T112423Z
LAST-MODIFIED:20231127T112423Z
UID:10001141-1701855000-1701869400@www.temps-libre.org
SUMMARY:Matinée PETITE ENFANCE à ST MAMERT DU GARD
DESCRIPTION:
URL:https://www.temps-libre.org/evenement/matinee-petite-enfance-a-st-mamert-du-gard/
LOCATION:Foyer de ST MAMERT DU GARD
END:VEVENT
END:VCALENDAR