BEGIN:VCALENDAR
VERSION:2.0
PRODID:-//Association Temps Libre - ECPv6.2.9//NONSGML v1.0//EN
CALSCALE:GREGORIAN
METHOD:PUBLISH
X-ORIGINAL-URL:https://www.temps-libre.org
X-WR-CALDESC:évènements pour Association Temps Libre
REFRESH-INTERVAL;VALUE=DURATION:PT1H
X-Robots-Tag:noindex
X-PUBLISHED-TTL:PT1H
BEGIN:VTIMEZONE
TZID:Europe/Paris
BEGIN:DAYLIGHT
TZOFFSETFROM:+0100
TZOFFSETTO:+0200
TZNAME:CEST
DTSTART:20230326T010000
END:DAYLIGHT
BEGIN:STANDARD
TZOFFSETFROM:+0200
TZOFFSETTO:+0100
TZNAME:CET
DTSTART:20231029T010000
END:STANDARD
BEGIN:DAYLIGHT
TZOFFSETFROM:+0100
TZOFFSETTO:+0200
TZNAME:CEST
DTSTART:20240331T010000
END:DAYLIGHT
BEGIN:STANDARD
TZOFFSETFROM:+0200
TZOFFSETTO:+0100
TZNAME:CET
DTSTART:20241027T010000
END:STANDARD
BEGIN:DAYLIGHT
TZOFFSETFROM:+0100
TZOFFSETTO:+0200
TZNAME:CEST
DTSTART:20250330T010000
END:DAYLIGHT
BEGIN:STANDARD
TZOFFSETFROM:+0200
TZOFFSETTO:+0100
TZNAME:CET
DTSTART:20251026T010000
END:STANDARD
BEGIN:DAYLIGHT
TZOFFSETFROM:+0100
TZOFFSETTO:+0200
TZNAME:CEST
DTSTART:20260329T010000
END:DAYLIGHT
BEGIN:STANDARD
TZOFFSETFROM:+0200
TZOFFSETTO:+0100
TZNAME:CET
DTSTART:20261025T010000
END:STANDARD
END:VTIMEZONE
BEGIN:VEVENT
DTSTART;TZID=Europe/Paris:20260316T080000
DTEND;TZID=Europe/Paris:20260321T170000
DTSTAMP:20260424T190927
CREATED:20260226T111042Z
LAST-MODIFIED:20260226T111042Z
UID:10001292-1773648000-1774112400@www.temps-libre.org
SUMMARY:SEMAINE DE LA PETITE ENFANCE
DESCRIPTION:La Semaine de la Petite Enfance s’invite sur le territoire du Syndicat Mixte Leins Gardonnenque\, la commune de Domessargues\, La Calmette et St Chaptes pour sa troisième édition.Du 16 au 21 mars 2026\, les différents partenaires de la Petite Enfance (RPE\, PMI\, centre de loisirs\, crèches et médiathèque) proposeront aux familles et aux assistantes maternelles des activités\, des portes ouvertes sur le thème “des équilibres” et une soirée causette sur “le jeu\, vecteur de socialisation”.  \nPlus d’informations auprès des animatrices du Relais Petite Enfance :06 74 92 77 43 / 07 66 27 93 00
URL:https://www.temps-libre.org/evenement/semaine-de-la-petite-enfance/
ATTACH;FMTTYPE=image/png:https://www.temps-libre.org/wp-content/uploads/sites/19/2026/02/21.png
END:VEVENT
BEGIN:VEVENT
DTSTART;TZID=Europe/Paris:20260122T200000
DTEND;TZID=Europe/Paris:20260122T220000
DTSTAMP:20260424T190927
CREATED:20260107T100441Z
LAST-MODIFIED:20260107T100441Z
UID:10001287-1769112000-1769119200@www.temps-libre.org
SUMMARY:Soirée Causette
DESCRIPTION:Le 22 janvier 2026 au Pôle Enfance Jeunesse\, 38 avenue de la gare à St Geniès de Malgoirès\, le RPE vous convie à une soirée causette sur la thématique des émotions animée par l’Ecole des Parents et des Educateurs du Gard (EPE30).\nOuvertes aux professionnel.les de l’accueil individuel et collectif\, aux parents et à toute personne intéressée par le sujet\, les soirées causettes ont pour objectif d’informer et de favoriser les échanges sur des thématiques en lien avec la petite enfance.\nCette soirée\, deuxième d’une série de quatre en lien avec cette thématique\, nous emmènera à la rencontre des émotions de l’enfant\, leur rôle dans la relation à l’autre et dans la socialisation du jeune enfant.
URL:https://www.temps-libre.org/evenement/soiree-causette-2/
LOCATION:Laep Pole Enfance Jeunesse
ATTACH;FMTTYPE=image/png:https://www.temps-libre.org/wp-content/uploads/sites/19/2026/01/causette-Les-emotions-du-Jeune-Enfant-Instagram-.png
END:VEVENT
BEGIN:VEVENT
DTSTART;TZID=Europe/Paris:20251216T093000
DTEND;TZID=Europe/Paris:20251216T130000
DTSTAMP:20260424T190927
CREATED:20251114T131601Z
LAST-MODIFIED:20251114T131601Z
UID:10001285-1765877400-1765890000@www.temps-libre.org
SUMMARY:Matinée Petite Enfance
DESCRIPTION:Le Relais Petite Enfance Tang’RAM et le Lieu Accueil Enfants Parents Papot’âges ont le plaisir de vous convier à une matinée Petite Enfance pour les enfants de 0 à 5 ans.Le mardi 16 décembre 2025 de 9h30 à 13h à l’espace Lucie Aubrac de Domessargues \, venez découvrir les espaces ludiques de notre “jardin d’hiver” à partir de 9h30 !A 10h15\, la compagnie Amarante présentera son spectacle jeune public “Chenille mon amour”.La matinée se terminera pour ceux qui le souhaitent par un moment convivial autour d’un repas tiré du sac.Gratuit – sur réservation auprès du RPE : rpe@temps-libre.org / 06 74 92 77 43 ou 07 66 27 93 00.
URL:https://www.temps-libre.org/evenement/matinee-petite-enfance-3/
LOCATION:DOMESSARGUES
ATTACH;FMTTYPE=image/jpeg:https://www.temps-libre.org/wp-content/uploads/sites/19/2025/11/MPE-jardin-dhiver-Publication-Instagram-45.jpg
END:VEVENT
BEGIN:VEVENT
DTSTART;TZID=Europe/Paris:20251014T200000
DTEND;TZID=Europe/Paris:20251014T220000
DTSTAMP:20260424T190927
CREATED:20250912T154908Z
LAST-MODIFIED:20250912T154908Z
UID:10001271-1760472000-1760479200@www.temps-libre.org
SUMMARY:Soirée Causette
DESCRIPTION:Soirée Causette \nle 14 octobre de 20h00 à 22h00\, au Pôle Enfance Jeunesse \, 38 Av\, de la gare St Geniès de Malgoirès\, le RPE vous convie à une soirée causette sur la thématique de la socialisation et la construction du tout petit\, animée par Béatrice Biasolo-Fauquier\, psychanalyste. \nCette soirée est ouverte à tous\, Parents\, Professionnel de la petite enfance.
URL:https://www.temps-libre.org/evenement/soiree-causette/
LOCATION:POLE ENFANCE JEUNESSE
ATTACH;FMTTYPE=image/png:https://www.temps-libre.org/wp-content/uploads/sites/19/2025/09/causette-socialisation-1-instagram.png
END:VEVENT
BEGIN:VEVENT
DTSTART;TZID=Europe/Paris:20251011T093000
DTEND;TZID=Europe/Paris:20251011T130000
DTSTAMP:20260424T190927
CREATED:20250912T155649Z
LAST-MODIFIED:20250912T155855Z
UID:10001272-1760175000-1760187600@www.temps-libre.org
SUMMARY:Matinée Petite Enfance
DESCRIPTION:Bonjour\, \nLe Relais Petite Enfance et le Lieu d’Accueil Enfants-Parents de l’Association Temps Libre vous invitent à une matinée « Jeu de lumière » destinée aux enfants de 0 à 5 ans. \n📅 Samedi 12 octobre 2025\n🕤 De 9h30 à 13h\n📍 Pôle Enfance Jeunesse – 38 avenue de la Gare\, Saint-Geniès-de-Malgoirès \nAu programme : des jeux et explorations autour de la lumière et des ombres\, ainsi qu’une création collective d’œuvres pour La Grande Lessive\, sur le thème « Jour et nuit\, réfléchir la lumière ».\nEt pour ceux qui le souhaitent\, un moment convivial autour d’un repas tiré du sac terminera la matinée. \n👉 L’événement est gratuit\, mais l’inscription est obligatoire auprès du RPE : rpe@temps-libre.org
URL:https://www.temps-libre.org/evenement/matinee-petite-enfance-2/
LOCATION:POLE ENFANCE JEUNESSE
ATTACH;FMTTYPE=image/png:https://www.temps-libre.org/wp-content/uploads/sites/19/2025/09/MPE-jeu-de-lumiere-publication-reseau.png
END:VEVENT
BEGIN:VEVENT
DTSTART;TZID=Europe/Paris:20250322T093000
DTEND;TZID=Europe/Paris:20250322T130000
DTSTAMP:20260424T190927
CREATED:20250224T131359Z
LAST-MODIFIED:20250224T131359Z
UID:10001240-1742635800-1742648400@www.temps-libre.org
SUMMARY:Semaine de la Petite Enfance "Encore!" : Matinée festive sur le thème de la gourmandise
DESCRIPTION:Le Relais Petite Enfance et le Lieu d’Accueil Enfants Parents de l’Association Temps Libre vous propose une matinée festive sur le thème de la gourmandise. \n“Encore !” évoque pour nous le plaisir de l’enfant. \nEncore une histoire\, encore un moment de jeu\, encore un biscuit\, une chanson\, un dessin… \nUn “encore” signé ou prononcé avec enthousiasme\, les yeux brillants de joie pour croquer la vie avec gourmandise. \nAu fil des ateliers ludiques\, venez partager avec votre enfant cet appétit gourmand pour les jeux\, les découvertes et la vie. \nLa matinée se terminera\, pour ceux qui le souhaitent\, par un moment convivial autour d’un repas tiré du sac. \nAu Pôle Enfance Jeunesse de 9h30 à 13h00. \nInscription obligatoire auprès du RPE à l’adresse suivante : rpe@temps-libre.org \nEvènement gratuit.\nProgramme détaillé de la semaine sur le site du Relais Petite Enfance (ram.temps-libre.org) ou directement SPE prog Hebdomadaire 2025-5.
URL:https://www.temps-libre.org/evenement/semaine-de-la-petite-enfance-encore-matinee-festive-sur-le-theme-de-la-gourmandise/
END:VEVENT
BEGIN:VEVENT
DTSTART;TZID=Europe/Paris:20250320T093000
DTEND;TZID=Europe/Paris:20250320T113000
DTSTAMP:20260424T190927
CREATED:20250224T125742Z
LAST-MODIFIED:20250224T125804Z
UID:10001237-1742463000-1742470200@www.temps-libre.org
SUMMARY:Semaine de la Petite Enfance "Encore!" : Atelier conte
DESCRIPTION:Le Relais Petite Enfance de l’Association Temps Libre invite les jeunes enfants et leurs parents à partager un moment conte proposé par Clarisse Buret\, conteuse professionnelle. \nAu foyer de St-Chaptes de 9h30 à 11h15. \nRéservation obligatoire auprès de Sarah (07 66 27 93 00) ou Vanessa (06 74 92 77 43) \nAtelier gratuit.\nProgramme détaillé de la semaine sur le site du Relais Petite Enfance (ram.temps-libre.org) ou directement SPE prog Hebdomadaire 2025-5.
URL:https://www.temps-libre.org/evenement/semaine-de-la-petite-enfance-encore-atelier-conte/
LOCATION:Foyer Pierre Clavel à St-Chaptes\, Avenue du Champ de Foire\, Saint-Chaptes\, 30190\, France
END:VEVENT
BEGIN:VEVENT
DTSTART;TZID=Europe/Paris:20250318T200000
DTEND;TZID=Europe/Paris:20250318T220000
DTSTAMP:20260424T190927
CREATED:20250224T112810Z
LAST-MODIFIED:20250224T113521Z
UID:10001235-1742328000-1742335200@www.temps-libre.org
SUMMARY:Semaine de la Petite Enfance "Encore!" : Soirée Causette
DESCRIPTION:Le Relais Petite Enfance vous propose de participer à une soirée causette.\nThématique “Soutenir le jeune enfant dans le développement du langage”\nSoirée animée par Corinne Picariello\, orthophoniste. \nAu Pôle Enfance Jeunesse de St-Geniès de Malgoirès de 20h à 22h. \nOuvert à tous et toutes\, sans inscription. \nSoirée gratuite.\nProgramme détaillé de la semaine sur le site du Relais Petite Enfance (ram.temps-libre.org) ou directement SPE prog Hebdomadaire 2025-5.
URL:https://www.temps-libre.org/evenement/semaine-de-la-petite-enfance-encore-venez-jouer-avec-nous/
END:VEVENT
BEGIN:VEVENT
DTSTART;TZID=Europe/Paris:20250317T093000
DTEND;TZID=Europe/Paris:20250317T113000
DTSTAMP:20260424T190927
CREATED:20250224T095338Z
LAST-MODIFIED:20250224T095338Z
UID:10001234-1742203800-1742211000@www.temps-libre.org
SUMMARY:Semaine de la Petite Enfance "Encore!" : Atelier "Vroum Vroum"
DESCRIPTION:Atelier “Vroum Vroum” \nLe Relais Petite Enfance de l’Association Temps Libre invite les jeunes enfants à voyager à bord de véhicules les plus insolites les uns que les autres. \nIls/Elles pourront tour à tour devenir capitaines de bateau\, aviateurs.trices ou encore conducteurs.trices de voitures de courses ! \nAu foyer de Mauressargues de 9h30 à 11h15 \nRéservation obligatoire auprès de Sarah (07 66 27 93 00) ou Vanessa (06 74 92 77 43) \nAtelier gratuit.\nProgramme détaillé de la semaine sur le site du Relais Petite Enfance (ram.temps-libre.org) ou directement SPE prog Hebdomadaire 2025-5.
URL:https://www.temps-libre.org/evenement/semaine-de-la-petite-enfance-encore-atelier-vroum-vroum/
END:VEVENT
BEGIN:VEVENT
DTSTART;TZID=Europe/Paris:20240606T093000
DTEND;TZID=Europe/Paris:20240606T130000
DTSTAMP:20260424T190927
CREATED:20240507T065958Z
LAST-MODIFIED:20240507T071912Z
UID:10001191-1717666200-1717678800@www.temps-libre.org
SUMMARY:GRANDE FETE DU RELAIS PETITE ENFANCE AU JARDIN L'ORTALET
DESCRIPTION:Cette année le RPE sera heureux de vous convier à sa fête de fin d’année ! \nAu programme : fabrication de peinture puis création artistique grandeur nature\, moment conte proposé par Clarisse\, l’intervenante conte du RPE \, \nJeux d’eau suivi d’un pique-nique. \nEt tout cela aura lieu au Jardin de l’Ortalet de 9h45 à 13h !! \nSi vous êtes intéressé.e n’hésitez pas à contacter l’animatrice RPE  \nau 07 66 27 08 25 ou rpe@temps-libre.org.  \nÉvénement gratuit mais qui demande une réservation au préalable.
URL:https://www.temps-libre.org/evenement/grande-fete-du-relais-petite-enfance-au-jardin-lortalet/
LOCATION:Jardin l’Ortalet\, chemin de tavillan\, Saint-Geniès de Malgoirès\, 30190\, France
END:VEVENT
BEGIN:VEVENT
DTSTART;TZID=Europe/Paris:20240601T100000
DTEND;TZID=Europe/Paris:20240601T133000
DTSTAMP:20260424T190927
CREATED:20240507T065213Z
LAST-MODIFIED:20240507T065213Z
UID:10001190-1717236000-1717248600@www.temps-libre.org
SUMMARY:LA GUINGUETTE DES PITCHOUNS au jardin pédagogique l'ORTALET
DESCRIPTION:Les plus petits aussi ont droit à leur guinguette à Temps Libre… \nCette année elle aura lieu le 1ier juin de 10h à 13h30.  \nComme toujours\, c’est gratuit \nMais cela demande une réservation auprès du RPE (rpe@temps-libre.org). \nCette année c’est la compagnie la Gamme qui nous fera voyager.  \nAttention\, chaque destination sera prétexte à l’évocation d’un univers sensoriel. \nLe spectacle est d’une durée de 30 minutes et sera suivi de jeux d’eau et d’un temps pique-nique tiré du sac.
URL:https://www.temps-libre.org/evenement/la-guinguette-des-pitchouns-au-jardin-pedagogique-lortalet/
LOCATION:Jardin l’Ortalet\, chemin de tavillan\, Saint-Geniès de Malgoirès\, 30190\, France
END:VEVENT
BEGIN:VEVENT
DTSTART;TZID=Europe/Paris:20240521T200000
DTEND;TZID=Europe/Paris:20240521T200000
DTSTAMP:20260424T190927
CREATED:20240507T064511Z
LAST-MODIFIED:20240507T064723Z
UID:10001189-1716321600-1716321600@www.temps-libre.org
SUMMARY:SOIREE CAUSETTE "LES REFLEXES ARCHAIQUES"
DESCRIPTION:« Les réflexes archaïques sont des mouvements involontaires avec lesquels nous naissons tous. \nProvoqués par des stimuli extérieurs\, ils ont pour vocation d’assurer notre survie durant les premiers mois de nos vies de bébés. \nCes mouvements réflexes sont à la base de notre développement cognitif\, émotionnel et physique. \nLes réflexes archaïques non intégrés impactent le développement moteur de l’enfant\, mais aussi son développement cognitif et émotionnel. \nIls sont souvent liés aux troubles des apprentissages et de comportement. \nDécouvrez les réflexes archaïques et comment aider à leur intégration pour accompagner l’enfant vers son plein potentiel.”
URL:https://www.temps-libre.org/evenement/soiree-causette-les-reflexes-archaiques/
LOCATION:POLE ENFANCE JEUNESSE
END:VEVENT
BEGIN:VEVENT
DTSTART;TZID=Europe/Paris:20240318T080000
DTEND;TZID=Europe/Paris:20240323T170000
DTSTAMP:20260424T190927
CREATED:20240306T084249Z
LAST-MODIFIED:20240306T084249Z
UID:10001178-1710748800-1711213200@www.temps-libre.org
SUMMARY:Semaine Nationale PETITE ENFANCE
DESCRIPTION:
URL:https://www.temps-libre.org/evenement/semaine-nationale-petite-enfance/
LOCATION:Espace Socio Culturel Temps Libre
END:VEVENT
BEGIN:VEVENT
DTSTART;TZID=Europe/Paris:20231212T200000
DTEND;TZID=Europe/Paris:20231212T220000
DTSTAMP:20260424T190927
CREATED:20231127T111607Z
LAST-MODIFIED:20231127T111859Z
UID:10001140-1702411200-1702418400@www.temps-libre.org
SUMMARY:Soirée Causette L'Ostéopathie Pédiatrique
DESCRIPTION:Le 12 décembre au Pôle Enfance Jeunesse\, 38 avenue de la gare à St Geniès de Malgoirès\,de 20h à 22h\, le RPE de l’Association Temps Libre  vous propose de venir participer à une soirée causette sur la thématique de l’ostéopathie pédiatrique animée par Christelle Gaudard\,ostéopathe à Sauzet\, spécialisée en pédiatrie et périnatalité. \nLors de cette soirée l’intervenante détaillera les périodes clefs durant les deux premières années de la vie du jeune enfant avec un zoom sur différents sujets tels que les déformations positionnelles du crâne\, la motricité libre\, les réflexes primitifs du développement moteur ou encore comment aider le jeune enfants dans ses apprentissages… \nChristelle essayera de de répondre à toutes vos questions\, et vous partagera les conseils les plus fréquemment donnés à son cabinet.
URL:https://www.temps-libre.org/evenement/soiree-causette-losteopathie-pediatrique/
LOCATION:POLE ENFANCE JEUNESSE
END:VEVENT
BEGIN:VEVENT
DTSTART;TZID=Europe/Paris:20231206T093000
DTEND;TZID=Europe/Paris:20231206T133000
DTSTAMP:20260424T190927
CREATED:20231127T112423Z
LAST-MODIFIED:20231127T112423Z
UID:10001141-1701855000-1701869400@www.temps-libre.org
SUMMARY:Matinée PETITE ENFANCE à ST MAMERT DU GARD
DESCRIPTION:
URL:https://www.temps-libre.org/evenement/matinee-petite-enfance-a-st-mamert-du-gard/
LOCATION:Foyer de ST MAMERT DU GARD
END:VEVENT
END:VCALENDAR