BEGIN:VCALENDAR
VERSION:2.0
PRODID:-//Association Temps Libre - ECPv6.2.9//NONSGML v1.0//EN
CALSCALE:GREGORIAN
METHOD:PUBLISH
X-ORIGINAL-URL:https://www.temps-libre.org
X-WR-CALDESC:évènements pour Association Temps Libre
REFRESH-INTERVAL;VALUE=DURATION:PT1H
X-Robots-Tag:noindex
X-PUBLISHED-TTL:PT1H
BEGIN:VTIMEZONE
TZID:Europe/Paris
BEGIN:DAYLIGHT
TZOFFSETFROM:+0100
TZOFFSETTO:+0200
TZNAME:CEST
DTSTART:20230326T010000
END:DAYLIGHT
BEGIN:STANDARD
TZOFFSETFROM:+0200
TZOFFSETTO:+0100
TZNAME:CET
DTSTART:20231029T010000
END:STANDARD
END:VTIMEZONE
BEGIN:VEVENT
DTSTART;TZID=Europe/Paris:20231009T170000
DTEND;TZID=Europe/Paris:20231009T201500
DTSTAMP:20260424T221738
CREATED:20230919T094808Z
LAST-MODIFIED:20230919T094808Z
UID:10001108-1696870800-1696882500@www.temps-libre.org
SUMMARY:Gymnastique PILATES
DESCRIPTION:
URL:https://www.temps-libre.org/evenement/gymnastique-pilates-5/
LOCATION:FOYER DE SAUZET
END:VEVENT
BEGIN:VEVENT
DTSTART;VALUE=DATE:20231008
DTEND;VALUE=DATE:20231009
DTSTAMP:20260424T221738
CREATED:20230907T062519Z
LAST-MODIFIED:20231002T100036Z
UID:10001095-1696723200-1696809599@www.temps-libre.org
SUMMARY:Randonnée Octobre rose St Geniès de Malgoirès
DESCRIPTION: 
URL:https://www.temps-libre.org/evenement/randonnee-octobre-rose-st-genies-de-malgoires/
END:VEVENT
BEGIN:VEVENT
DTSTART;TZID=Europe/Paris:20231006T180000
DTEND;TZID=Europe/Paris:20231006T190000
DTSTAMP:20260424T221738
CREATED:20231004T153227Z
LAST-MODIFIED:20231004T153227Z
UID:10001126-1696615200-1696618800@www.temps-libre.org
SUMMARY:Atelier Chant Enfant pour 9/13 ans
DESCRIPTION:
URL:https://www.temps-libre.org/evenement/atelier-chant-enfant-pour-9-13-ans/
LOCATION:Espace Socio Culturel Temps Libre
END:VEVENT
BEGIN:VEVENT
DTSTART;TZID=Europe/Paris:20231005T190000
DTEND;TZID=Europe/Paris:20231005T203000
DTSTAMP:20260424T221738
CREATED:20231004T152615Z
LAST-MODIFIED:20231004T152615Z
UID:10001120-1696532400-1696537800@www.temps-libre.org
SUMMARY:Ensemble de Jazz
DESCRIPTION:
URL:https://www.temps-libre.org/evenement/ensemble-de-jazz/
LOCATION:Espace Socio Culturel Temps Libre
END:VEVENT
BEGIN:VEVENT
DTSTART;TZID=Europe/Paris:20231005T091500
DTEND;TZID=Europe/Paris:20231005T113000
DTSTAMP:20260424T221738
CREATED:20230920T121102Z
LAST-MODIFIED:20230920T121102Z
UID:10001116-1696497300-1696505400@www.temps-libre.org
SUMMARY:Gymnastique DOUCE
DESCRIPTION:
URL:https://www.temps-libre.org/evenement/gymnastique-douce-2/
LOCATION:Espace Socio Culturel Temps Libre
END:VEVENT
BEGIN:VEVENT
DTSTART;TZID=Europe/Paris:20231004T090000
DTEND;TZID=Europe/Paris:20231004T120000
DTSTAMP:20260424T221738
CREATED:20230830T131956Z
LAST-MODIFIED:20230830T131956Z
UID:10001088-1696410000-1696420800@www.temps-libre.org
SUMMARY:LAEP à FONS
DESCRIPTION:
URL:https://www.temps-libre.org/evenement/laep-a-fons-4/
LOCATION:FONS ECOLE MATERNELLE
END:VEVENT
BEGIN:VEVENT
DTSTART;TZID=Europe/Paris:20231003T190000
DTEND;TZID=Europe/Paris:20231003T200000
DTSTAMP:20260424T221738
CREATED:20230919T094132Z
LAST-MODIFIED:20230919T094132Z
UID:10001100-1696359600-1696363200@www.temps-libre.org
SUMMARY:Gymnastique STRETCHING
DESCRIPTION:
URL:https://www.temps-libre.org/evenement/gymnastique-stretching-2/
LOCATION:FOYER DE MONTIGNARGUES
END:VEVENT
BEGIN:VEVENT
DTSTART;TZID=Europe/Paris:20231002T190000
DTEND;TZID=Europe/Paris:20231002T200000
DTSTAMP:20260424T221738
CREATED:20230919T095155Z
LAST-MODIFIED:20230919T095155Z
UID:10001111-1696273200-1696276800@www.temps-libre.org
SUMMARY:Gymnastique TONIQUE
DESCRIPTION:
URL:https://www.temps-libre.org/evenement/gymnastique-tonique-2/
LOCATION:Espace Socio Culturel Temps Libre
END:VEVENT
BEGIN:VEVENT
DTSTART;TZID=Europe/Paris:20231002T150000
DTEND;TZID=Europe/Paris:20231002T163000
DTSTAMP:20260424T221738
CREATED:20230721T071852Z
LAST-MODIFIED:20230721T071852Z
UID:10001076-1696258800-1696264200@www.temps-libre.org
SUMMARY:Atelier Découverte Numérique
DESCRIPTION:
URL:https://www.temps-libre.org/evenement/atelier-decouverte-numerique-2/
LOCATION:Espace Socio Culturel Temps Libre
END:VEVENT
BEGIN:VEVENT
DTSTART;TZID=Europe/Paris:20230928T091500
DTEND;TZID=Europe/Paris:20230928T113000
DTSTAMP:20260424T221738
CREATED:20230920T121024Z
LAST-MODIFIED:20230920T121024Z
UID:10001115-1695892500-1695900600@www.temps-libre.org
SUMMARY:Gymnastique DOUCE
DESCRIPTION:
URL:https://www.temps-libre.org/evenement/gymnastique-douce/
LOCATION:Espace Socio Culturel Temps Libre
END:VEVENT
BEGIN:VEVENT
DTSTART;TZID=Europe/Paris:20230927T090000
DTEND;TZID=Europe/Paris:20230927T120000
DTSTAMP:20260424T221738
CREATED:20230830T132402Z
LAST-MODIFIED:20230830T132402Z
UID:10001091-1695805200-1695816000@www.temps-libre.org
SUMMARY:LAEP à ST  MAMERT
DESCRIPTION:
URL:https://www.temps-libre.org/evenement/laep-a-st-mamert-10/
LOCATION:FONS ECOLE MATERNELLE
END:VEVENT
BEGIN:VEVENT
DTSTART;TZID=Europe/Paris:20230926T190000
DTEND;TZID=Europe/Paris:20230926T200000
DTSTAMP:20260424T221738
CREATED:20230914T071545Z
LAST-MODIFIED:20230919T094032Z
UID:10001099-1695754800-1695758400@www.temps-libre.org
SUMMARY:Gymnastique STRETCHING
DESCRIPTION:
URL:https://www.temps-libre.org/evenement/gymnastique-stretching/
LOCATION:FOYER DE MONTIGNARGUES
END:VEVENT
BEGIN:VEVENT
DTSTART;TZID=Europe/Paris:20230925T190000
DTEND;TZID=Europe/Paris:20230925T200000
DTSTAMP:20260424T221738
CREATED:20230919T095016Z
LAST-MODIFIED:20230919T095016Z
UID:10001110-1695668400-1695672000@www.temps-libre.org
SUMMARY:Gymnastique TONIQUE
DESCRIPTION:
URL:https://www.temps-libre.org/evenement/gymnastique-tonique/
LOCATION:Espace Socio Culturel Temps Libre
END:VEVENT
BEGIN:VEVENT
DTSTART;TZID=Europe/Paris:20230925T170000
DTEND;TZID=Europe/Paris:20230925T201500
DTSTAMP:20260424T221738
CREATED:20230914T071401Z
LAST-MODIFIED:20230914T071401Z
UID:10001097-1695661200-1695672900@www.temps-libre.org
SUMMARY:Gymnastique PILATES
DESCRIPTION:
URL:https://www.temps-libre.org/evenement/gymnastique-pilates-2/
LOCATION:FOYER DE SAUZET
END:VEVENT
BEGIN:VEVENT
DTSTART;TZID=Europe/Paris:20230920T090000
DTEND;TZID=Europe/Paris:20230920T120000
DTSTAMP:20260424T221738
CREATED:20230830T131835Z
LAST-MODIFIED:20230830T131835Z
UID:10001087-1695200400-1695211200@www.temps-libre.org
SUMMARY:LAEP à FONS
DESCRIPTION:
URL:https://www.temps-libre.org/evenement/laep-a-fons-3/
LOCATION:FONS ECOLE MATERNELLE
END:VEVENT
BEGIN:VEVENT
DTSTART;TZID=Europe/Paris:20230918T170000
DTEND;TZID=Europe/Paris:20230918T201500
DTSTAMP:20260424T221738
CREATED:20230914T071205Z
LAST-MODIFIED:20230914T071205Z
UID:10001096-1695056400-1695068100@www.temps-libre.org
SUMMARY:Gymnastique PILATES
DESCRIPTION:
URL:https://www.temps-libre.org/evenement/gymnastique-pilates/
LOCATION:FOYER DE SAUZET
END:VEVENT
BEGIN:VEVENT
DTSTART;TZID=Europe/Paris:20230918T150000
DTEND;TZID=Europe/Paris:20230918T163000
DTSTAMP:20260424T221738
CREATED:20230721T071638Z
LAST-MODIFIED:20230721T071722Z
UID:10001075-1695049200-1695054600@www.temps-libre.org
SUMMARY:Atelier Découverte Numérique
DESCRIPTION:
URL:https://www.temps-libre.org/evenement/atelier-decouverte-numerique/
LOCATION:Espace Socio Culturel Temps Libre
END:VEVENT
BEGIN:VEVENT
DTSTART;TZID=Europe/Paris:20230913T090000
DTEND;TZID=Europe/Paris:20230913T120000
DTSTAMP:20260424T221738
CREATED:20230830T132248Z
LAST-MODIFIED:20230830T132248Z
UID:10001090-1694595600-1694606400@www.temps-libre.org
SUMMARY:LAEP à ST  MAMERT
DESCRIPTION:
URL:https://www.temps-libre.org/evenement/laep-a-st-mamert-9/
LOCATION:FONS ECOLE MATERNELLE
END:VEVENT
BEGIN:VEVENT
DTSTART;TZID=Europe/Paris:20230912T140000
DTEND;TZID=Europe/Paris:20230912T160000
DTSTAMP:20260424T221738
CREATED:20230721T072518Z
LAST-MODIFIED:20230721T072838Z
UID:10001081-1694527200-1694534400@www.temps-libre.org
SUMMARY:ATELIER "JEU-DISCUTE"
DESCRIPTION:
URL:https://www.temps-libre.org/evenement/atelier-jeu-discute/
LOCATION:Espace Socio Culturel Temps Libre
END:VEVENT
BEGIN:VEVENT
DTSTART;VALUE=DATE:20230910
DTEND;VALUE=DATE:20230911
DTSTAMP:20260424T221738
CREATED:20230907T062409Z
LAST-MODIFIED:20230907T062409Z
UID:10001094-1694304000-1694390399@www.temps-libre.org
SUMMARY:Randonnée à St Martial
DESCRIPTION:Contact : Michèle FENSCH au 06 45 78 86 53  \nDans la semaine qui précède\, nous envoyons par mail l’horaire de départ en covoiturage devant la mairie de St Genies\nLes randonnées sont annulées en cas d’intempérie.\nPrévoir le repas sorti du sac \, de bonne chaussures de marche et des vêtements adaptés aux conditions météorologiques du jour.\nLes chiens ne sont pas acceptés\, même tenus en laisse\nParticipation à l’activité 10 € par personne et pour l’année hors cotisation à l’association
URL:https://www.temps-libre.org/evenement/randonnee-a-st-martial/
END:VEVENT
BEGIN:VEVENT
DTSTART;TZID=Europe/Paris:20230906T090000
DTEND;TZID=Europe/Paris:20230906T120000
DTSTAMP:20260424T221738
CREATED:20230825T101828Z
LAST-MODIFIED:20230830T131417Z
UID:10001086-1693990800-1694001600@www.temps-libre.org
SUMMARY:LAEP à FONS
DESCRIPTION:
URL:https://www.temps-libre.org/evenement/laep-a-fons-2/
LOCATION:FONS ECOLE MATERNELLE
END:VEVENT
BEGIN:VEVENT
DTSTART;TZID=Europe/Paris:20230825T183000
DTEND;TZID=Europe/Paris:20230825T230000
DTSTAMP:20260424T221738
CREATED:20230209T092658Z
LAST-MODIFIED:20230421T101740Z
UID:10000591-1692988200-1693004400@www.temps-libre.org
SUMMARY:GUINGUETTE 2023 "KFC BB" BLUES ROCK
DESCRIPTION:
URL:https://www.temps-libre.org/evenement/guinguette-2023-pontiac-bleues-folk/
LOCATION:Jardin l’Ortalet\, chemin de tavillan\, Saint-Geniès de Malgoirès\, 30190\, France
END:VEVENT
BEGIN:VEVENT
DTSTART;TZID=Europe/Paris:20230719T150000
DTEND;TZID=Europe/Paris:20230719T180000
DTSTAMP:20260424T221738
CREATED:20230508T102334Z
LAST-MODIFIED:20230508T102334Z
UID:10001005-1689778800-1689789600@www.temps-libre.org
SUMMARY:Friperie Solidaire LES FRUSQUES DE CAROLE
DESCRIPTION:
URL:https://www.temps-libre.org/evenement/friperie-solidaire-les-frusques-de-carole-8/2023-07-19/
LOCATION:10 rue des marchands st genies de malgoires
END:VEVENT
BEGIN:VEVENT
DTSTART;TZID=Europe/Paris:20230719T150000
DTEND;TZID=Europe/Paris:20230719T180000
DTSTAMP:20260424T221738
CREATED:20230508T102258Z
LAST-MODIFIED:20230508T102258Z
UID:10001061-1689778800-1689789600@www.temps-libre.org
SUMMARY:Friperie Solidaire LES FRUSQUES DE CAROLE
DESCRIPTION:
URL:https://www.temps-libre.org/evenement/friperie-solidaire-les-frusques-de-carole-7/2023-07-19/
LOCATION:10 rue des marchands st genies de malgoires
END:VEVENT
BEGIN:VEVENT
DTSTART;TZID=Europe/Paris:20230719T150000
DTEND;TZID=Europe/Paris:20230719T180000
DTSTAMP:20260424T221738
CREATED:20230508T102220Z
LAST-MODIFIED:20230508T102220Z
UID:10000954-1689778800-1689789600@www.temps-libre.org
SUMMARY:Friperie Solidaire LES FRUSQUES DE CAROLE
DESCRIPTION:
URL:https://www.temps-libre.org/evenement/friperie-solidaire-les-frusques-de-carole-6/2023-07-19/
LOCATION:10 rue des marchands st genies de malgoires
END:VEVENT
BEGIN:VEVENT
DTSTART;TZID=Europe/Paris:20230719T150000
DTEND;TZID=Europe/Paris:20230719T180000
DTSTAMP:20260424T221738
CREATED:20230508T102132Z
LAST-MODIFIED:20230508T102132Z
UID:10000896-1689778800-1689789600@www.temps-libre.org
SUMMARY:Friperie Solidaire LES FRUSQUES DE CAROLE
DESCRIPTION:
URL:https://www.temps-libre.org/evenement/friperie-solidaire-les-frusques-de-carole-5/2023-07-19/
LOCATION:10 rue des marchands st genies de malgoires
END:VEVENT
BEGIN:VEVENT
DTSTART;TZID=Europe/Paris:20230719T150000
DTEND;TZID=Europe/Paris:20230719T180000
DTSTAMP:20260424T221738
CREATED:20230508T102049Z
LAST-MODIFIED:20230508T102049Z
UID:10000831-1689778800-1689789600@www.temps-libre.org
SUMMARY:Friperie Solidaire LES FRUSQUES DE CAROLE
DESCRIPTION:
URL:https://www.temps-libre.org/evenement/friperie-solidaire-les-frusques-de-carole-4/2023-07-19/
LOCATION:10 rue des marchands st genies de malgoires
END:VEVENT
BEGIN:VEVENT
DTSTART;TZID=Europe/Paris:20230719T150000
DTEND;TZID=Europe/Paris:20230719T180000
DTSTAMP:20260424T221738
CREATED:20230508T101912Z
LAST-MODIFIED:20230508T101912Z
UID:10000761-1689778800-1689789600@www.temps-libre.org
SUMMARY:Friperie Solidaire LES FRUSQUES DE CAROLE
DESCRIPTION:
URL:https://www.temps-libre.org/evenement/friperie-solidaire-les-frusques-de-carole-3/2023-07-19/
LOCATION:10 rue des marchands st genies de malgoires
END:VEVENT
BEGIN:VEVENT
DTSTART;TZID=Europe/Paris:20230719T090000
DTEND;TZID=Europe/Paris:20230719T120000
DTSTAMP:20260424T221738
CREATED:20230505T100446Z
LAST-MODIFIED:20230505T100533Z
UID:10000689-1689757200-1689768000@www.temps-libre.org
SUMMARY:Friperie Solidaire LES FRUSQUES DE CAROLE
DESCRIPTION:
URL:https://www.temps-libre.org/evenement/friperie-solidaire-les-frusques-de-carole-2/2023-07-19/
LOCATION:10 rue des marchands st genies de malgoires
END:VEVENT
BEGIN:VEVENT
DTSTART;TZID=Europe/Paris:20230718T150000
DTEND;TZID=Europe/Paris:20230718T180000
DTSTAMP:20260424T221738
CREATED:20230508T102334Z
LAST-MODIFIED:20230508T102334Z
UID:10001004-1689692400-1689703200@www.temps-libre.org
SUMMARY:Friperie Solidaire LES FRUSQUES DE CAROLE
DESCRIPTION:
URL:https://www.temps-libre.org/evenement/friperie-solidaire-les-frusques-de-carole-8/2023-07-18/
LOCATION:10 rue des marchands st genies de malgoires
END:VEVENT
END:VCALENDAR