BEGIN:VCALENDAR
VERSION:2.0
PRODID:-//Association Temps Libre - ECPv6.2.9//NONSGML v1.0//EN
CALSCALE:GREGORIAN
METHOD:PUBLISH
X-WR-CALNAME:Association Temps Libre
X-ORIGINAL-URL:https://www.temps-libre.org
X-WR-CALDESC:évènements pour Association Temps Libre
REFRESH-INTERVAL;VALUE=DURATION:PT1H
X-Robots-Tag:noindex
X-PUBLISHED-TTL:PT1H
BEGIN:VTIMEZONE
TZID:Europe/Paris
BEGIN:DAYLIGHT
TZOFFSETFROM:+0100
TZOFFSETTO:+0200
TZNAME:CEST
DTSTART:20230326T010000
END:DAYLIGHT
BEGIN:STANDARD
TZOFFSETFROM:+0200
TZOFFSETTO:+0100
TZNAME:CET
DTSTART:20231029T010000
END:STANDARD
END:VTIMEZONE
BEGIN:VEVENT
DTSTART;TZID=Europe/Paris:20231113T150000
DTEND;TZID=Europe/Paris:20231113T163000
DTSTAMP:20260424T182946
CREATED:20230721T072056Z
LAST-MODIFIED:20230721T072056Z
UID:10001078-1699887600-1699893000@www.temps-libre.org
SUMMARY:Atelier Découverte Numérique
DESCRIPTION:
URL:https://www.temps-libre.org/evenement/atelier-decouverte-numerique-9/
LOCATION:Espace Socio Culturel Temps Libre
END:VEVENT
BEGIN:VEVENT
DTSTART;TZID=Europe/Paris:20231110T100000
DTEND;TZID=Europe/Paris:20231125T183000
DTSTAMP:20260424T182946
CREATED:20231016T063331Z
LAST-MODIFIED:20231016T063331Z
UID:10001135-1699610400-1700937000@www.temps-libre.org
SUMMARY:Exposition Photos NATURE de HERSEY Rémi
DESCRIPTION:Le vendredi 10 novembre de 17h30 à 19h vernissage de l’exposition Photos Nature de HERSEY Rémi\, qui se décrit comme un photographe “du vivant”\, insectes\, portraitiste d’artistes\, d’anonymes\, d’instruments de musique …. il sera dans nos locaux jusqu’au vendredi 22 novembre!!!!
URL:https://www.temps-libre.org/evenement/exposition-photos-nature-de-hersey-remi/
LOCATION:Espace Socio Culturel Temps Libre
END:VEVENT
BEGIN:VEVENT
DTSTART;TZID=Europe/Paris:20231109T190000
DTEND;TZID=Europe/Paris:20231109T203000
DTSTAMP:20260424T182946
CREATED:20231004T152819Z
LAST-MODIFIED:20231004T152819Z
UID:10001123-1699556400-1699561800@www.temps-libre.org
SUMMARY:Ensemble de Jazz
DESCRIPTION:
URL:https://www.temps-libre.org/evenement/ensemble-de-jazz-4/
LOCATION:Espace Socio Culturel Temps Libre
END:VEVENT
BEGIN:VEVENT
DTSTART;TZID=Europe/Paris:20231107T190000
DTEND;TZID=Europe/Paris:20231107T200000
DTSTAMP:20260424T182946
CREATED:20230919T094322Z
LAST-MODIFIED:20230919T094322Z
UID:10001103-1699383600-1699387200@www.temps-libre.org
SUMMARY:Gymnastique STRETCHING
DESCRIPTION:
URL:https://www.temps-libre.org/evenement/gymnastique-stretching-5/
LOCATION:FOYER DE MONTIGNARGUES
END:VEVENT
BEGIN:VEVENT
DTSTART;TZID=Europe/Paris:20231023T093000
DTEND;TZID=Europe/Paris:20231025T113000
DTSTAMP:20260424T182946
CREATED:20230920T122146Z
LAST-MODIFIED:20231002T095554Z
UID:10001118-1698053400-1698233400@www.temps-libre.org
SUMMARY:STAGE PEINTURE DESSIN AUTOMNE 2023  pour les 6/12 ans
DESCRIPTION:Télécharger la fiche d’inscription : fiche d’inscription stage dessin automne 2023 \n  \n \n 
URL:https://www.temps-libre.org/evenement/stage-peinture-dessin-automne-2023-pour-les-6-12-ans/
LOCATION:Espace Socio Culturel Temps Libre
END:VEVENT
BEGIN:VEVENT
DTSTART;TZID=Europe/Paris:20231023T080000
DTEND;TZID=Europe/Paris:20231103T170000
DTSTAMP:20260424T182946
CREATED:20231016T064920Z
LAST-MODIFIED:20231016T064920Z
UID:10001136-1698048000-1699030800@www.temps-libre.org
SUMMARY:Programme Famille Vacances Automne 2023
DESCRIPTION:
URL:https://www.temps-libre.org/evenement/programme-famille-vacances-automne-2023/
LOCATION:Espace Socio Culturel Temps Libre
END:VEVENT
BEGIN:VEVENT
DTSTART;TZID=Europe/Paris:20231020T180000
DTEND;TZID=Europe/Paris:20231020T190000
DTSTAMP:20260424T182946
CREATED:20231004T153339Z
LAST-MODIFIED:20231004T153339Z
UID:10001128-1697824800-1697828400@www.temps-libre.org
SUMMARY:Atelier Chant Enfant pour 9/13 ans
DESCRIPTION:
URL:https://www.temps-libre.org/evenement/atelier-chant-enfant-pour-9-13-ans-3/
LOCATION:Espace Socio Culturel Temps Libre
END:VEVENT
BEGIN:VEVENT
DTSTART;TZID=Europe/Paris:20231019T190000
DTEND;TZID=Europe/Paris:20231019T203000
DTSTAMP:20260424T182946
CREATED:20231004T152742Z
LAST-MODIFIED:20231004T152742Z
UID:10001122-1697742000-1697747400@www.temps-libre.org
SUMMARY:Ensemble de Jazz
DESCRIPTION:
URL:https://www.temps-libre.org/evenement/ensemble-de-jazz-3/
LOCATION:Espace Socio Culturel Temps Libre
END:VEVENT
BEGIN:VEVENT
DTSTART;TZID=Europe/Paris:20231018T090000
DTEND;TZID=Europe/Paris:20231018T120000
DTSTAMP:20260424T182946
CREATED:20230830T132034Z
LAST-MODIFIED:20230830T132034Z
UID:10001089-1697619600-1697630400@www.temps-libre.org
SUMMARY:LAEP à FONS
DESCRIPTION:
URL:https://www.temps-libre.org/evenement/laep-a-fons-5/
LOCATION:FONS ECOLE MATERNELLE
END:VEVENT
BEGIN:VEVENT
DTSTART;TZID=Europe/Paris:20231017T190000
DTEND;TZID=Europe/Paris:20231017T200000
DTSTAMP:20260424T182946
CREATED:20230919T094243Z
LAST-MODIFIED:20230919T094243Z
UID:10001102-1697569200-1697572800@www.temps-libre.org
SUMMARY:Gymnastique STRETCHING
DESCRIPTION:
URL:https://www.temps-libre.org/evenement/gymnastique-stretching-4/
LOCATION:FOYER DE MONTIGNARGUES
END:VEVENT
BEGIN:VEVENT
DTSTART;TZID=Europe/Paris:20231016T190000
DTEND;TZID=Europe/Paris:20231016T200000
DTSTAMP:20260424T182946
CREATED:20230919T095302Z
LAST-MODIFIED:20230919T095302Z
UID:10001113-1697482800-1697486400@www.temps-libre.org
SUMMARY:Gymnastique TONIQUE
DESCRIPTION:
URL:https://www.temps-libre.org/evenement/gymnastique-tonique-4/
LOCATION:Espace Socio Culturel Temps Libre
END:VEVENT
BEGIN:VEVENT
DTSTART;TZID=Europe/Paris:20231016T170000
DTEND;TZID=Europe/Paris:20231016T201500
DTSTAMP:20260424T182946
CREATED:20230919T094841Z
LAST-MODIFIED:20230919T094841Z
UID:10001109-1697475600-1697487300@www.temps-libre.org
SUMMARY:Gymnastique PILATES
DESCRIPTION:
URL:https://www.temps-libre.org/evenement/gymnastique-pilates-6/
LOCATION:FOYER DE SAUZET
END:VEVENT
BEGIN:VEVENT
DTSTART;TZID=Europe/Paris:20231016T150000
DTEND;TZID=Europe/Paris:20231016T163000
DTSTAMP:20260424T182946
CREATED:20230721T072023Z
LAST-MODIFIED:20230721T072023Z
UID:10001077-1697468400-1697473800@www.temps-libre.org
SUMMARY:Atelier Découverte Numérique
DESCRIPTION:
URL:https://www.temps-libre.org/evenement/atelier-decouverte-numerique-3/
LOCATION:Espace Socio Culturel Temps Libre
END:VEVENT
BEGIN:VEVENT
DTSTART;TZID=Europe/Paris:20231013T180000
DTEND;TZID=Europe/Paris:20231013T190000
DTSTAMP:20260424T182946
CREATED:20231004T153304Z
LAST-MODIFIED:20231004T153304Z
UID:10001127-1697220000-1697223600@www.temps-libre.org
SUMMARY:Atelier Chant Enfant pour 9/13 ans
DESCRIPTION:
URL:https://www.temps-libre.org/evenement/atelier-chant-enfant-pour-9-13-ans-2/
LOCATION:Espace Socio Culturel Temps Libre
END:VEVENT
BEGIN:VEVENT
DTSTART;TZID=Europe/Paris:20231012T190000
DTEND;TZID=Europe/Paris:20231012T203000
DTSTAMP:20260424T182946
CREATED:20231004T152710Z
LAST-MODIFIED:20231004T152710Z
UID:10001121-1697137200-1697142600@www.temps-libre.org
SUMMARY:Ensemble de Jazz
DESCRIPTION:
URL:https://www.temps-libre.org/evenement/ensemble-de-jazz-2/
LOCATION:Espace Socio Culturel Temps Libre
END:VEVENT
BEGIN:VEVENT
DTSTART;TZID=Europe/Paris:20231012T091500
DTEND;TZID=Europe/Paris:20231012T113000
DTSTAMP:20260424T182946
CREATED:20230920T121157Z
LAST-MODIFIED:20230920T121157Z
UID:10001117-1697102100-1697110200@www.temps-libre.org
SUMMARY:Gymnastique DOUCE
DESCRIPTION:
URL:https://www.temps-libre.org/evenement/gymnastique-douce-3/
LOCATION:Espace Socio Culturel Temps Libre
END:VEVENT
BEGIN:VEVENT
DTSTART;TZID=Europe/Paris:20231011T090000
DTEND;TZID=Europe/Paris:20231011T120000
DTSTAMP:20260424T182946
CREATED:20230830T132439Z
LAST-MODIFIED:20230830T132439Z
UID:10001092-1697014800-1697025600@www.temps-libre.org
SUMMARY:LAEP à ST  MAMERT
DESCRIPTION:
URL:https://www.temps-libre.org/evenement/laep-a-st-mamert-11/
LOCATION:FONS ECOLE MATERNELLE
END:VEVENT
BEGIN:VEVENT
DTSTART;TZID=Europe/Paris:20231010T190000
DTEND;TZID=Europe/Paris:20231010T200000
DTSTAMP:20260424T182946
CREATED:20230919T094209Z
LAST-MODIFIED:20230919T094209Z
UID:10001101-1696964400-1696968000@www.temps-libre.org
SUMMARY:Gymnastique STRETCHING
DESCRIPTION:
URL:https://www.temps-libre.org/evenement/gymnastique-stretching-3/
LOCATION:FOYER DE MONTIGNARGUES
END:VEVENT
BEGIN:VEVENT
DTSTART;TZID=Europe/Paris:20231010T140000
DTEND;TZID=Europe/Paris:20231010T160000
DTSTAMP:20260424T182946
CREATED:20230721T073207Z
LAST-MODIFIED:20230721T073207Z
UID:10001083-1696946400-1696953600@www.temps-libre.org
SUMMARY:ATELIER "JEU-DISCUTE"
DESCRIPTION:
URL:https://www.temps-libre.org/evenement/atelier-jeu-discute-7/
LOCATION:Espace Socio Culturel Temps Libre
END:VEVENT
BEGIN:VEVENT
DTSTART;TZID=Europe/Paris:20231009T190000
DTEND;TZID=Europe/Paris:20231009T200000
DTSTAMP:20260424T182946
CREATED:20230919T095228Z
LAST-MODIFIED:20230919T095228Z
UID:10001112-1696878000-1696881600@www.temps-libre.org
SUMMARY:Gymnastique TONIQUE
DESCRIPTION:
URL:https://www.temps-libre.org/evenement/gymnastique-tonique-3/
LOCATION:Espace Socio Culturel Temps Libre
END:VEVENT
BEGIN:VEVENT
DTSTART;TZID=Europe/Paris:20231009T170000
DTEND;TZID=Europe/Paris:20231009T201500
DTSTAMP:20260424T182946
CREATED:20230919T094808Z
LAST-MODIFIED:20230919T094808Z
UID:10001108-1696870800-1696882500@www.temps-libre.org
SUMMARY:Gymnastique PILATES
DESCRIPTION:
URL:https://www.temps-libre.org/evenement/gymnastique-pilates-5/
LOCATION:FOYER DE SAUZET
END:VEVENT
BEGIN:VEVENT
DTSTART;VALUE=DATE:20231008
DTEND;VALUE=DATE:20231009
DTSTAMP:20260424T182946
CREATED:20230907T062519Z
LAST-MODIFIED:20231002T100036Z
UID:10001095-1696723200-1696809599@www.temps-libre.org
SUMMARY:Randonnée Octobre rose St Geniès de Malgoirès
DESCRIPTION: 
URL:https://www.temps-libre.org/evenement/randonnee-octobre-rose-st-genies-de-malgoires/
END:VEVENT
BEGIN:VEVENT
DTSTART;TZID=Europe/Paris:20231006T180000
DTEND;TZID=Europe/Paris:20231006T190000
DTSTAMP:20260424T182946
CREATED:20231004T153227Z
LAST-MODIFIED:20231004T153227Z
UID:10001126-1696615200-1696618800@www.temps-libre.org
SUMMARY:Atelier Chant Enfant pour 9/13 ans
DESCRIPTION:
URL:https://www.temps-libre.org/evenement/atelier-chant-enfant-pour-9-13-ans/
LOCATION:Espace Socio Culturel Temps Libre
END:VEVENT
BEGIN:VEVENT
DTSTART;TZID=Europe/Paris:20231005T190000
DTEND;TZID=Europe/Paris:20231005T203000
DTSTAMP:20260424T182946
CREATED:20231004T152615Z
LAST-MODIFIED:20231004T152615Z
UID:10001120-1696532400-1696537800@www.temps-libre.org
SUMMARY:Ensemble de Jazz
DESCRIPTION:
URL:https://www.temps-libre.org/evenement/ensemble-de-jazz/
LOCATION:Espace Socio Culturel Temps Libre
END:VEVENT
BEGIN:VEVENT
DTSTART;TZID=Europe/Paris:20231005T091500
DTEND;TZID=Europe/Paris:20231005T113000
DTSTAMP:20260424T182946
CREATED:20230920T121102Z
LAST-MODIFIED:20230920T121102Z
UID:10001116-1696497300-1696505400@www.temps-libre.org
SUMMARY:Gymnastique DOUCE
DESCRIPTION:
URL:https://www.temps-libre.org/evenement/gymnastique-douce-2/
LOCATION:Espace Socio Culturel Temps Libre
END:VEVENT
BEGIN:VEVENT
DTSTART;TZID=Europe/Paris:20231004T090000
DTEND;TZID=Europe/Paris:20231004T120000
DTSTAMP:20260424T182946
CREATED:20230830T131956Z
LAST-MODIFIED:20230830T131956Z
UID:10001088-1696410000-1696420800@www.temps-libre.org
SUMMARY:LAEP à FONS
DESCRIPTION:
URL:https://www.temps-libre.org/evenement/laep-a-fons-4/
LOCATION:FONS ECOLE MATERNELLE
END:VEVENT
BEGIN:VEVENT
DTSTART;TZID=Europe/Paris:20231003T190000
DTEND;TZID=Europe/Paris:20231003T200000
DTSTAMP:20260424T182946
CREATED:20230919T094132Z
LAST-MODIFIED:20230919T094132Z
UID:10001100-1696359600-1696363200@www.temps-libre.org
SUMMARY:Gymnastique STRETCHING
DESCRIPTION:
URL:https://www.temps-libre.org/evenement/gymnastique-stretching-2/
LOCATION:FOYER DE MONTIGNARGUES
END:VEVENT
BEGIN:VEVENT
DTSTART;TZID=Europe/Paris:20231002T190000
DTEND;TZID=Europe/Paris:20231002T200000
DTSTAMP:20260424T182946
CREATED:20230919T095155Z
LAST-MODIFIED:20230919T095155Z
UID:10001111-1696273200-1696276800@www.temps-libre.org
SUMMARY:Gymnastique TONIQUE
DESCRIPTION:
URL:https://www.temps-libre.org/evenement/gymnastique-tonique-2/
LOCATION:Espace Socio Culturel Temps Libre
END:VEVENT
BEGIN:VEVENT
DTSTART;TZID=Europe/Paris:20231002T150000
DTEND;TZID=Europe/Paris:20231002T163000
DTSTAMP:20260424T182946
CREATED:20230721T071852Z
LAST-MODIFIED:20230721T071852Z
UID:10001076-1696258800-1696264200@www.temps-libre.org
SUMMARY:Atelier Découverte Numérique
DESCRIPTION:
URL:https://www.temps-libre.org/evenement/atelier-decouverte-numerique-2/
LOCATION:Espace Socio Culturel Temps Libre
END:VEVENT
BEGIN:VEVENT
DTSTART;TZID=Europe/Paris:20230928T091500
DTEND;TZID=Europe/Paris:20230928T113000
DTSTAMP:20260424T182946
CREATED:20230920T121024Z
LAST-MODIFIED:20230920T121024Z
UID:10001115-1695892500-1695900600@www.temps-libre.org
SUMMARY:Gymnastique DOUCE
DESCRIPTION:
URL:https://www.temps-libre.org/evenement/gymnastique-douce/
LOCATION:Espace Socio Culturel Temps Libre
END:VEVENT
END:VCALENDAR