BEGIN:VCALENDAR
VERSION:2.0
PRODID:-//Association Temps Libre - ECPv6.2.9//NONSGML v1.0//EN
CALSCALE:GREGORIAN
METHOD:PUBLISH
X-WR-CALNAME:Association Temps Libre
X-ORIGINAL-URL:https://www.temps-libre.org
X-WR-CALDESC:évènements pour Association Temps Libre
REFRESH-INTERVAL;VALUE=DURATION:PT1H
X-Robots-Tag:noindex
X-PUBLISHED-TTL:PT1H
BEGIN:VTIMEZONE
TZID:Europe/Paris
BEGIN:DAYLIGHT
TZOFFSETFROM:+0100
TZOFFSETTO:+0200
TZNAME:CEST
DTSTART:20230326T010000
END:DAYLIGHT
BEGIN:STANDARD
TZOFFSETFROM:+0200
TZOFFSETTO:+0100
TZNAME:CET
DTSTART:20231029T010000
END:STANDARD
BEGIN:DAYLIGHT
TZOFFSETFROM:+0100
TZOFFSETTO:+0200
TZNAME:CEST
DTSTART:20240331T010000
END:DAYLIGHT
BEGIN:STANDARD
TZOFFSETFROM:+0200
TZOFFSETTO:+0100
TZNAME:CET
DTSTART:20241027T010000
END:STANDARD
BEGIN:DAYLIGHT
TZOFFSETFROM:+0100
TZOFFSETTO:+0200
TZNAME:CEST
DTSTART:20250330T010000
END:DAYLIGHT
BEGIN:STANDARD
TZOFFSETFROM:+0200
TZOFFSETTO:+0100
TZNAME:CET
DTSTART:20251026T010000
END:STANDARD
END:VTIMEZONE
BEGIN:VEVENT
DTSTART;TZID=Europe/Paris:20250307T183000
DTEND;TZID=Europe/Paris:20250307T203000
DTSTAMP:20260424T111607
CREATED:20250204T164151Z
LAST-MODIFIED:20250221T135652Z
UID:10001221-1741372200-1741379400@www.temps-libre.org
SUMMARY:Concert Madame M
DESCRIPTION:Dans le cadre des “Journées départementales des droits des femmes 2025”. \nEn 2025\, l’Espace Socio Culturel Temps Libre St-Geniès de Malgoirès\, propose en fil rouge « Les violences invisibles faites aux Femmes ».\nDu 03 mars au 10 mars\, nous exposerons des panneaux retraçants les différentes formes de violences\, réalisés par Perrine Bourguignon\, qui est en service civique dans notre association.\nLe vendredi 7 mars à 18h30\, nous accueillerons l’artiste musicienne Madame M\, artiste que nous avions beaucoup aimé lors des remises des prix 2024.\nDu 10 au 31 mars\, ceux sont trois artistes peintre et photographe qui exposeront leurs œuvres sur le thème « Portraits de Femmes ». Le vernissage aura lieu le 14 mars à 18h30.\nPour clôturer ce mois de mars\, nous accompagnons une jeune femme dans le cadre d’un stage bourse à la mobilité\, qui nous propose une sensibilisation sur les violences sexistes et sexuelles.\nAbigaël Tournemine\, élève de seconde au lycée Saint Stanislas de Nîmes\, option cinéma\, propose une projection d’un film/ court métrage\, une conférence thématique animée par des intervenants spécialisés sur le sujet. Ayant besoin d’un espace plus grand que les locaux de notre association\, la municipalité met à disposition une salle ainsi que le matériel de projection.\nPerrine Bourguignon exposera aussi ses panneaux lors de cet événement qui aura lieu le vendredi 28 mars à partir de 18h30 dans la salle municipale de St Geniès de Malgoirès.
URL:https://www.temps-libre.org/evenement/concert-madame-m/
LOCATION:Espace Socio Culturel Temps Libre
END:VEVENT
BEGIN:VEVENT
DTSTART;TZID=Europe/Paris:20250303T120000
DTEND;TZID=Europe/Paris:20250308T190000
DTSTAMP:20260424T111607
CREATED:20250204T164607Z
LAST-MODIFIED:20250204T164607Z
UID:10001223-1741003200-1741460400@www.temps-libre.org
SUMMARY:Exposition "Les violences invisibles" - Perrine BOURGUIGNON
DESCRIPTION:Dans le cadre des “Journées départementales des droits des femmes 2025”. \nEn 2025\, l’Espace Socio Culturel Temps Libre St-Geniès de Malgoirès\, propose en fil rouge « Les violences invisibles faites aux Femmes ».\nDu 03 mars au 10 mars\, nous exposerons des panneaux retraçant les différentes formes de violences\, réalisés par Perrine Bourguignon\, qui est en service civique dans notre association.\nLe vendredi 7 mars à 18h30\, nous accueillerons l’artiste musicienne Madame M\, artiste que nous avions beaucoup aimé lors des remises des prix 2024.\nDu 10 au 31 mars\, ceux sont trois artistes peintre et photographe qui exposeront leurs œuvres sur le thème « Portraits de Femmes ». Le vernissage aura lieu le 14 mars à 18h30.\nPour clôturer ce mois de mars\, nous accompagnons une jeune femme dans le cadre d’un stage bourse à la mobilité\, qui nous propose une sensibilisation sur les violences sexistes et sexuelles.\nAbigaël Tournemine\, élève de seconde au lycée Saint Stanislas de Nîmes\, option cinéma\, propose une projection d’un film/ court métrage\, une conférence thématique animée par des intervenants spécialisés sur le sujet. Ayant besoin d’un espace plus grand que les locaux de notre association\, la municipalité met à disposition une salle ainsi que le matériel de projection.\nPerrine Bourguignon exposera aussi ses panneaux lors de cet événement qui aura lieu le vendredi 28 mars à partir de 18h30 dans la salle municipale de St Geniès de Malgoirès.
URL:https://www.temps-libre.org/evenement/exposition-les-violences-invisibles-perrine-bourguignon/
LOCATION:Espace Socio Culturel Temps Libre
END:VEVENT
BEGIN:VEVENT
DTSTART;TZID=Europe/Paris:20250303T080000
DTEND;TZID=Europe/Paris:20250331T180000
DTSTAMP:20260424T111607
CREATED:20250204T163420Z
LAST-MODIFIED:20250204T163750Z
UID:10001220-1740988800-1743444000@www.temps-libre.org
SUMMARY:Journées départementales des droits des femmes 2025
DESCRIPTION:En 2025\, l’Espace Socio Culturel Temps Libre St-Geniès de Malgoirès\, propose en fil rouge « Les violences invisibles faites aux Femmes ».\nDu 03 mars au 10 mars\, nous exposerons des panneaux retraçants les différentes formes de violences\, réalisés par Perrine Bourguignon\, qui est en service civique dans notre association.\nLe vendredi 7 mars à 18h30\, nous accueillerons l’artiste musicienne Madame M\, artiste que nous avions beaucoup aimé lors des remises des prix 2024.\nDu 10 au 31 mars\, ceux sont trois artistes peintre et photographe qui exposeront leurs œuvres sur le thème « Portraits de Femmes ». Le vernissage aura lieu le 14 mars à 18h30.\nPour clôturer ce mois de mars\, nous accompagnons une jeune femme dans le cadre d’un stage bourse à la mobilité\, qui nous propose une sensibilisation sur les violences sexistes et sexuelles.\nAbigaël Tournemine\, élève de seconde au lycée Saint Stanislas de Nîmes\, option cinéma\, propose une projection d’un film/ court métrage\, une conférence thématique animée par des intervenants spécialisés sur le sujet. Ayant besoin d’un espace plus grand que les locaux de notre association\, la municipalité met à disposition une salle ainsi que le matériel de projection.\nPerrine Bourguignon exposera aussi ses panneaux lors de cet événement qui aura lieu le vendredi 28 mars à partir de 18h30 dans la salle municipale de St Geniès de Malgoirès.
URL:https://www.temps-libre.org/evenement/journees-departementales-des-droits-des-femmes-2025/
LOCATION:Espace Socio Culturel Temps Libre
END:VEVENT
BEGIN:VEVENT
DTSTART;TZID=Europe/Paris:20250207T183000
DTEND;TZID=Europe/Paris:20250207T220000
DTSTAMP:20260424T111607
CREATED:20250204T162639Z
LAST-MODIFIED:20250204T162730Z
UID:10001218-1738953000-1738965600@www.temps-libre.org
SUMMARY:Vernissage Exposition Peinture "Mr Gé"
DESCRIPTION:Déjà la 2ème exposition de l’année 2025… \nL’espace socio culturel Temps Libre accueille Mr Gé\, artiste auto-didacte tant en musique qu’en dessin et peinture. \nSes œuvres seront exposées du 3 au 15 février\, avec un concert lors du vernissage auquel vous êtes conviés le vendredi 7 février à partir de 18h30.
URL:https://www.temps-libre.org/evenement/vernissage-exposition-peinture-mg-ge/
LOCATION:Temps Libre Espace Socio Culturel
END:VEVENT
BEGIN:VEVENT
DTSTART;TZID=Europe/Paris:20250203T090000
DTEND;TZID=Europe/Paris:20250215T180000
DTSTAMP:20260424T111607
CREATED:20250204T162904Z
LAST-MODIFIED:20250204T162917Z
UID:10001219-1738573200-1739642400@www.temps-libre.org
SUMMARY:Exposition Peinture "Mr Gé"
DESCRIPTION:Déjà la 2ème exposition de l’année 2025… \nL’espace socio culturel Temps Libre accueille Mr Gé\, artiste auto-didacte tant en musique qu’en dessin et peinture. \nSes œuvres seront exposées du 3 au 15 février\, avec un concert lors du vernissage auquel vous êtes conviés le vendredi 7 février à partir de 18h30.
URL:https://www.temps-libre.org/evenement/exposition-peinture-mr-ge/
LOCATION:Temps Libre Espace Socio Culturel
END:VEVENT
BEGIN:VEVENT
DTSTART;TZID=Europe/Paris:20250110T183000
DTEND;TZID=Europe/Paris:20250110T220000
DTSTAMP:20260424T111607
CREATED:20241220T101509Z
LAST-MODIFIED:20241220T101509Z
UID:10001214-1736533800-1736546400@www.temps-libre.org
SUMMARY:Vernissage Exposition Peinture "Daniel MAIGRON"
DESCRIPTION:Daniel Maigron\, artiste/auteur/plasticien sans formation classique. \nIl a débuté chez Cacharel à Paris puis pendant 10 ans\, il a tenu une maison de couture de prêt à porter à Hong Kong\, rayonnant dans plusieurs grands centres commerciaux dans des capitales asiatiques. \nIl  y a quelques années\, la cathédrale Saint-Castor de Nîmes lui a commandé une exposition représentant “La Passion”. \nIl continue sa route avec de nouvelles créations artistiques et littéraires comme “Nomade” et “La Lune Verte” qu’il nous présentera lors du vernissage vendredi 10 janvier 2025 à 18h30.
URL:https://www.temps-libre.org/evenement/vernissage-exposition-peinture-daniel-maigron/
LOCATION:Temps Libre Espace Socio Culturel
END:VEVENT
BEGIN:VEVENT
DTSTART;TZID=Europe/Paris:20250110T100000
DTEND;TZID=Europe/Paris:20250131T100000
DTSTAMP:20260424T111607
CREATED:20241220T101112Z
LAST-MODIFIED:20241220T101311Z
UID:10001213-1736503200-1738317600@www.temps-libre.org
SUMMARY:Exposition Peinture "Daniel MAIGRON"
DESCRIPTION:Daniel Maigron\, artiste/auteur/plasticien sans formation classique. \nIl a débuté chez Cacharel à Paris puis pendant 10 ans\, il a tenu une maison de couture de prêt à porter à Hong Kong\, rayonnant dans plusieurs grands centres commerciaux dans des capitales asiatiques. \nIl  y a quelques années\, la cathédrale Saint-Castor de Nîmes lui a commandé une exposition représentant “La Passion”. \nIl continue sa route avec de nouvelles créations artistiques et littéraires comme “Nomade” et “La Lune Verte” qu’il nous présentera lors du vernissage vendredi 10 janvier 2025 à 18h30.
URL:https://www.temps-libre.org/evenement/exposition-peinture-daniel-maigron/
LOCATION:Temps Libre Espace Socio Culturel
END:VEVENT
BEGIN:VEVENT
DTSTART;TZID=Europe/Paris:20240913T190000
DTEND;TZID=Europe/Paris:20240913T230000
DTSTAMP:20260424T111607
CREATED:20240208T080414Z
LAST-MODIFIED:20240417T144733Z
UID:10001159-1726254000-1726268400@www.temps-libre.org
SUMMARY:Festival de l'ORTALET 2024 avec le groupe POLYSONS (pop)
DESCRIPTION:
URL:https://www.temps-libre.org/evenement/festival-de-lortalet-2024-5/
LOCATION:Jardin l’Ortalet\, chemin de tavillan\, Saint-Geniès de Malgoirès\, 30190\, France
END:VEVENT
BEGIN:VEVENT
DTSTART;TZID=Europe/Paris:20240712T190000
DTEND;TZID=Europe/Paris:20240712T230000
DTSTAMP:20260424T111607
CREATED:20240208T102444Z
LAST-MODIFIED:20240423T095050Z
UID:10001161-1720810800-1720825200@www.temps-libre.org
SUMMARY:Festival de l'ORTALET 2024  soirée BOEUF
DESCRIPTION:
URL:https://www.temps-libre.org/evenement/festival-de-lortalet-2024-soiree-boeufs-2/
LOCATION:Jardin l’Ortalet\, chemin de tavillan\, Saint-Geniès de Malgoirès\, 30190\, France
END:VEVENT
BEGIN:VEVENT
DTSTART;TZID=Europe/Paris:20240628T190000
DTEND;TZID=Europe/Paris:20240628T230000
DTSTAMP:20260424T111607
CREATED:20240209T113543Z
LAST-MODIFIED:20240507T082510Z
UID:10001169-1719601200-1719615600@www.temps-libre.org
SUMMARY:GUINGUETTE AVEC LAURIE ET F.  (blues rock)
DESCRIPTION:
URL:https://www.temps-libre.org/evenement/tremplin-artistique/
LOCATION:Jardin l’Ortalet\, chemin de tavillan\, Saint-Geniès de Malgoirès\, 30190\, France
END:VEVENT
BEGIN:VEVENT
DTSTART;TZID=Europe/Paris:20240625T140000
DTEND;TZID=Europe/Paris:20240625T160000
DTSTAMP:20260424T111607
CREATED:20230721T073044Z
LAST-MODIFIED:20240223T073552Z
UID:10001082-1719324000-1719331200@www.temps-libre.org
SUMMARY:ATELIER "JEU-DISCUTE"
DESCRIPTION:
URL:https://www.temps-libre.org/evenement/atelier-jeu-discute-6/
LOCATION:Espace Socio Culturel Temps Libre
END:VEVENT
BEGIN:VEVENT
DTSTART;TZID=Europe/Paris:20240615T130000
DTEND;TZID=Europe/Paris:20240615T180000
DTSTAMP:20260424T111607
CREATED:20240222T084910Z
LAST-MODIFIED:20240222T084910Z
UID:10001174-1718456400-1718474400@www.temps-libre.org
SUMMARY:Exposition EPHEMERE
DESCRIPTION:
URL:https://www.temps-libre.org/evenement/exposition-ephemere/
LOCATION:Espace Socio Culturel Temps Libre
END:VEVENT
BEGIN:VEVENT
DTSTART;TZID=Europe/Paris:20240611T140000
DTEND;TZID=Europe/Paris:20240611T160000
DTSTAMP:20260424T111607
CREATED:20231004T153629Z
LAST-MODIFIED:20240223T073513Z
UID:10001129-1718114400-1718121600@www.temps-libre.org
SUMMARY:ATELIER "JEU-DISCUTE"
DESCRIPTION:
URL:https://www.temps-libre.org/evenement/atelier-jeu-discute-2/
LOCATION:Espace Socio Culturel Temps Libre
END:VEVENT
BEGIN:VEVENT
DTSTART;TZID=Europe/Paris:20240507T140000
DTEND;TZID=Europe/Paris:20240507T160000
DTSTAMP:20260424T111607
CREATED:20231004T153709Z
LAST-MODIFIED:20240223T073227Z
UID:10001084-1715090400-1715097600@www.temps-libre.org
SUMMARY:ATELIER "JEU-DISCUTE"
DESCRIPTION:
URL:https://www.temps-libre.org/evenement/atelier-jeu-discute-3/
LOCATION:Espace Socio Culturel Temps Libre
END:VEVENT
BEGIN:VEVENT
DTSTART;TZID=Europe/Paris:20240426T150000
DTEND;TZID=Europe/Paris:20240426T170000
DTSTAMP:20260424T111607
CREATED:20231004T152141Z
LAST-MODIFIED:20240315T162654Z
UID:10001119-1714143600-1714150800@www.temps-libre.org
SUMMARY:Atelier Art Floral
DESCRIPTION:Nouveau à Temps Libre : ATELIER ART FLORAL \nCette année la section « échange de savoir » va proposer un atelier ponctuel d’art floral. \nLe coût pour les adhérents de l’Espace Socio Culturel TEMPS LIBRE est de 34€ par personne\, matériel fourni ; mousse\, fleurs fraiches\, feuillages…. (hors contenant)\, \nDépart en mini bus de TEMPS LIBRE \nVous devrez vous munir d’un carton plat ou vieille toile cirée pour protéger la table\, d’un sécateur\, agrafeuse\, ciseaux\, sac poubelle(*) et d’un contenant de 20 à 30 cm (pour avoir une idée du genre de contenant\, vous pouvez aller sur le site de notre intervenante : http://www.parfumsetcouleurs.fr/ ) \nLes cours sont dispensés par Nathalie Roussel\, Professeur/Démonstrateur d’Art Floral\, diplômée par la Société Nationale d’Horticulture de France. \n(vous pouvez déposer votre chèque au secrétariat de temps libre ou le vendredi après midi auprès de Manuela ou Elda à la salle des associations de la Mairie). \nPour les non adhérents\, ajouter 10€ d’adhésion à l’association (valable du 1er septembre 2023 au 31 août 2024). \n(*) Vous devrez emporter vos déchets végétaux que vous pourrez ensuite déposer dans les composteurs prévus à cet effet. \n 
URL:https://www.temps-libre.org/evenement/atelier-art-floral/
LOCATION:ST JEAN DE CEYRARGUES
END:VEVENT
BEGIN:VEVENT
DTSTART;TZID=Europe/Paris:20240423T140000
DTEND;TZID=Europe/Paris:20240423T160000
DTSTAMP:20260424T111607
CREATED:20240223T073143Z
LAST-MODIFIED:20240223T073143Z
UID:10001131-1713880800-1713888000@www.temps-libre.org
SUMMARY:ATELIER "JEU-DISCUTE"
DESCRIPTION:
URL:https://www.temps-libre.org/evenement/atelier-jeu-discute-9/
LOCATION:Espace Socio Culturel Temps Libre
END:VEVENT
BEGIN:VEVENT
DTSTART;TZID=Europe/Paris:20240409T090000
DTEND;TZID=Europe/Paris:20240409T120000
DTSTAMP:20260424T111607
CREATED:20240322T094230Z
LAST-MODIFIED:20240322T094451Z
UID:10001184-1712653200-1712664000@www.temps-libre.org
SUMMARY:CAFE COMPOST au Jardin "de l'Ortalet"
DESCRIPTION:
URL:https://www.temps-libre.org/evenement/cafe-compost-au-jardin-de-lortalet/
LOCATION:Jardin l’Ortalet\, chemin de tavillan\, Saint-Geniès de Malgoirès\, 30190\, France
END:VEVENT
BEGIN:VEVENT
DTSTART;TZID=Europe/Paris:20240406T140000
DTEND;TZID=Europe/Paris:20240406T160000
DTSTAMP:20260424T111607
CREATED:20240314T080237Z
LAST-MODIFIED:20240314T080301Z
UID:10001179-1712412000-1712419200@www.temps-libre.org
SUMMARY:Atelier Peinture
DESCRIPTION:
URL:https://www.temps-libre.org/evenement/atelier-peinture/
LOCATION:Espace Socio Culturel Temps Libre
END:VEVENT
BEGIN:VEVENT
DTSTART;TZID=Europe/Paris:20240402T140000
DTEND;TZID=Europe/Paris:20240402T160000
DTSTAMP:20260424T111607
CREATED:20231004T153933Z
LAST-MODIFIED:20240223T073106Z
UID:10001130-1712066400-1712073600@www.temps-libre.org
SUMMARY:ATELIER "JEU-DISCUTE"
DESCRIPTION:
URL:https://www.temps-libre.org/evenement/atelier-jeu-discute-4/
LOCATION:Espace Socio Culturel Temps Libre
END:VEVENT
BEGIN:VEVENT
DTSTART;TZID=Europe/Paris:20240326T140000
DTEND;TZID=Europe/Paris:20240326T160000
DTSTAMP:20260424T111607
CREATED:20240223T073020Z
LAST-MODIFIED:20240223T073020Z
UID:10001176-1711461600-1711468800@www.temps-libre.org
SUMMARY:ATELIER "JEU-DISCUTE"
DESCRIPTION:
URL:https://www.temps-libre.org/evenement/atelier-jeu-discute-8/
LOCATION:Espace Socio Culturel Temps Libre
END:VEVENT
BEGIN:VEVENT
DTSTART;TZID=Europe/Paris:20240322T180000
DTEND;TZID=Europe/Paris:20240322T203000
DTSTAMP:20260424T111607
CREATED:20240215T075412Z
LAST-MODIFIED:20240215T075412Z
UID:10001171-1711130400-1711139400@www.temps-libre.org
SUMMARY:EXPOSITION AQUARELLES "MARTINE BEE EXPOSE SES OEUVRES
DESCRIPTION:
URL:https://www.temps-libre.org/evenement/exposition-aquarelles-martine-bee-expose-ses-oeuvres/
LOCATION:Espace Socio Culturel Temps Libre
END:VEVENT
BEGIN:VEVENT
DTSTART;TZID=Europe/Paris:20240308T181500
DTEND;TZID=Europe/Paris:20240308T203000
DTSTAMP:20260424T111607
CREATED:20240215T074937Z
LAST-MODIFIED:20240215T074937Z
UID:10001170-1709921700-1709929800@www.temps-libre.org
SUMMARY:EXPOSITION "LE CHAMPS DES FEMMES"
DESCRIPTION:
URL:https://www.temps-libre.org/evenement/exposition-le-champs-des-femmes/
LOCATION:Espace Socio Culturel Temps Libre
END:VEVENT
BEGIN:VEVENT
DTSTART;TZID=Europe/Paris:20240305T140000
DTEND;TZID=Europe/Paris:20240305T160000
DTSTAMP:20260424T111607
CREATED:20240223T072908Z
LAST-MODIFIED:20240223T072908Z
UID:10001175-1709647200-1709654400@www.temps-libre.org
SUMMARY:ATELIER "JEU-DISCUTE"
DESCRIPTION:
URL:https://www.temps-libre.org/evenement/atelier-jeu-discute-5/
LOCATION:Espace Socio Culturel Temps Libre
END:VEVENT
BEGIN:VEVENT
DTSTART;TZID=Europe/Paris:20240224T140000
DTEND;TZID=Europe/Paris:20240224T213000
DTSTAMP:20260424T111607
CREATED:20240209T111441Z
LAST-MODIFIED:20240215T103703Z
UID:10001167-1708783200-1708810200@www.temps-libre.org
SUMMARY:"LE TEMPS D'UN JEU" NOUVEL AN CHINOIS
DESCRIPTION:
URL:https://www.temps-libre.org/evenement/le-temps-dun-jeu-nouvel-an-chinois/
LOCATION:Espace Socio Culturel Temps Libre
END:VEVENT
BEGIN:VEVENT
DTSTART;TZID=Europe/Paris:20240216T080000
DTEND;TZID=Europe/Paris:20240216T170000
DTSTAMP:20260424T111607
CREATED:20240209T103846Z
LAST-MODIFIED:20240209T105257Z
UID:10001166-1708070400-1708102800@www.temps-libre.org
SUMMARY:ATELIER PATISSERIE INTERGENERATIONNEL
DESCRIPTION:
URL:https://www.temps-libre.org/evenement/atelier-patisserie-intergenerationnel/
END:VEVENT
BEGIN:VEVENT
DTSTART;TZID=Europe/Paris:20240210T140000
DTEND;TZID=Europe/Paris:20240210T200000
DTSTAMP:20260424T111607
CREATED:20240209T113202Z
LAST-MODIFIED:20240209T113202Z
UID:10001168-1707573600-1707595200@www.temps-libre.org
SUMMARY:CULTI'AND VIBES ! ATELIER MOCHI MAQUILLAGE KARAOKE
DESCRIPTION:
URL:https://www.temps-libre.org/evenement/cultiand-vibes-atelier-mochi-maquillage-karaoke/
LOCATION:Espace Socio Culturel Temps Libre
END:VEVENT
BEGIN:VEVENT
DTSTART;TZID=Europe/Paris:20240115T150000
DTEND;TZID=Europe/Paris:20240115T163000
DTSTAMP:20260424T111607
CREATED:20230721T090623Z
LAST-MODIFIED:20230721T090623Z
UID:10001085-1705330800-1705336200@www.temps-libre.org
SUMMARY:Atelier Découverte Numérique
DESCRIPTION:
URL:https://www.temps-libre.org/evenement/atelier-decouverte-numerique-12/
LOCATION:Espace Socio Culturel Temps Libre
END:VEVENT
BEGIN:VEVENT
DTSTART;TZID=Europe/Paris:20231225T080000
DTEND;TZID=Europe/Paris:20240105T170000
DTSTAMP:20260424T111607
CREATED:20231204T101707Z
LAST-MODIFIED:20231204T101707Z
UID:10001152-1703491200-1704474000@www.temps-libre.org
SUMMARY:Fermeture Annuelle
DESCRIPTION:
URL:https://www.temps-libre.org/evenement/fermeture-annuelle/
LOCATION:Espace Socio Culturel Temps Libre
END:VEVENT
BEGIN:VEVENT
DTSTART;TZID=Europe/Paris:20231218T150000
DTEND;TZID=Europe/Paris:20231218T163000
DTSTAMP:20260424T111607
CREATED:20230721T072224Z
LAST-MODIFIED:20230721T072248Z
UID:10001080-1702911600-1702917000@www.temps-libre.org
SUMMARY:Atelier Découverte Numérique
DESCRIPTION:
URL:https://www.temps-libre.org/evenement/atelier-decouverte-numerique-11/
LOCATION:Espace Socio Culturel Temps Libre
END:VEVENT
BEGIN:VEVENT
DTSTART;TZID=Europe/Paris:20231211T170000
DTEND;TZID=Europe/Paris:20231211T201500
DTSTAMP:20260424T111607
CREATED:20230919T094732Z
LAST-MODIFIED:20230920T122510Z
UID:10001107-1702314000-1702325700@www.temps-libre.org
SUMMARY:Gymnastique PILATES
DESCRIPTION:
URL:https://www.temps-libre.org/evenement/gymnastique-pilates-4/
LOCATION:FOYER DE SAUZET
END:VEVENT
END:VCALENDAR