BEGIN:VCALENDAR
VERSION:2.0
PRODID:-//Association Temps Libre - ECPv6.2.9//NONSGML v1.0//EN
CALSCALE:GREGORIAN
METHOD:PUBLISH
X-ORIGINAL-URL:https://www.temps-libre.org
X-WR-CALDESC:évènements pour Association Temps Libre
REFRESH-INTERVAL;VALUE=DURATION:PT1H
X-Robots-Tag:noindex
X-PUBLISHED-TTL:PT1H
BEGIN:VTIMEZONE
TZID:Europe/Paris
BEGIN:DAYLIGHT
TZOFFSETFROM:+0100
TZOFFSETTO:+0200
TZNAME:CEST
DTSTART:20230326T010000
END:DAYLIGHT
BEGIN:STANDARD
TZOFFSETFROM:+0200
TZOFFSETTO:+0100
TZNAME:CET
DTSTART:20231029T010000
END:STANDARD
END:VTIMEZONE
BEGIN:VEVENT
DTSTART;TZID=Europe/Paris:20230701T150000
DTEND;TZID=Europe/Paris:20230701T180000
DTSTAMP:20260426T010829
CREATED:20230508T102220Z
LAST-MODIFIED:20230508T102220Z
UID:10000936-1688223600-1688234400@www.temps-libre.org
SUMMARY:Friperie Solidaire LES FRUSQUES DE CAROLE
DESCRIPTION:
URL:https://www.temps-libre.org/evenement/friperie-solidaire-les-frusques-de-carole-6/2023-07-01/
LOCATION:10 rue des marchands st genies de malgoires
END:VEVENT
BEGIN:VEVENT
DTSTART;TZID=Europe/Paris:20230701T150000
DTEND;TZID=Europe/Paris:20230701T180000
DTSTAMP:20260426T010829
CREATED:20230508T102132Z
LAST-MODIFIED:20230508T102132Z
UID:10000878-1688223600-1688234400@www.temps-libre.org
SUMMARY:Friperie Solidaire LES FRUSQUES DE CAROLE
DESCRIPTION:
URL:https://www.temps-libre.org/evenement/friperie-solidaire-les-frusques-de-carole-5/2023-07-01/
LOCATION:10 rue des marchands st genies de malgoires
END:VEVENT
BEGIN:VEVENT
DTSTART;TZID=Europe/Paris:20230701T150000
DTEND;TZID=Europe/Paris:20230701T180000
DTSTAMP:20260426T010829
CREATED:20230508T102049Z
LAST-MODIFIED:20230508T102049Z
UID:10000813-1688223600-1688234400@www.temps-libre.org
SUMMARY:Friperie Solidaire LES FRUSQUES DE CAROLE
DESCRIPTION:
URL:https://www.temps-libre.org/evenement/friperie-solidaire-les-frusques-de-carole-4/2023-07-01/
LOCATION:10 rue des marchands st genies de malgoires
END:VEVENT
BEGIN:VEVENT
DTSTART;TZID=Europe/Paris:20230701T150000
DTEND;TZID=Europe/Paris:20230701T180000
DTSTAMP:20260426T010829
CREATED:20230508T101912Z
LAST-MODIFIED:20230508T101912Z
UID:10000743-1688223600-1688234400@www.temps-libre.org
SUMMARY:Friperie Solidaire LES FRUSQUES DE CAROLE
DESCRIPTION:
URL:https://www.temps-libre.org/evenement/friperie-solidaire-les-frusques-de-carole-3/2023-07-01/
LOCATION:10 rue des marchands st genies de malgoires
END:VEVENT
BEGIN:VEVENT
DTSTART;TZID=Europe/Paris:20230701T090000
DTEND;TZID=Europe/Paris:20230701T120000
DTSTAMP:20260426T010829
CREATED:20230505T100446Z
LAST-MODIFIED:20230505T100533Z
UID:10000671-1688202000-1688212800@www.temps-libre.org
SUMMARY:Friperie Solidaire LES FRUSQUES DE CAROLE
DESCRIPTION:
URL:https://www.temps-libre.org/evenement/friperie-solidaire-les-frusques-de-carole-2/2023-07-01/
LOCATION:10 rue des marchands st genies de malgoires
END:VEVENT
BEGIN:VEVENT
DTSTART;TZID=Europe/Paris:20230630T150000
DTEND;TZID=Europe/Paris:20230630T180000
DTSTAMP:20260426T010829
CREATED:20230508T102334Z
LAST-MODIFIED:20230508T102334Z
UID:10000986-1688137200-1688148000@www.temps-libre.org
SUMMARY:Friperie Solidaire LES FRUSQUES DE CAROLE
DESCRIPTION:
URL:https://www.temps-libre.org/evenement/friperie-solidaire-les-frusques-de-carole-8/2023-06-30/
LOCATION:10 rue des marchands st genies de malgoires
END:VEVENT
BEGIN:VEVENT
DTSTART;TZID=Europe/Paris:20230630T150000
DTEND;TZID=Europe/Paris:20230630T180000
DTSTAMP:20260426T010829
CREATED:20230508T102258Z
LAST-MODIFIED:20230508T102258Z
UID:10001042-1688137200-1688148000@www.temps-libre.org
SUMMARY:Friperie Solidaire LES FRUSQUES DE CAROLE
DESCRIPTION:
URL:https://www.temps-libre.org/evenement/friperie-solidaire-les-frusques-de-carole-7/2023-06-30/
LOCATION:10 rue des marchands st genies de malgoires
END:VEVENT
BEGIN:VEVENT
DTSTART;TZID=Europe/Paris:20230630T150000
DTEND;TZID=Europe/Paris:20230630T180000
DTSTAMP:20260426T010829
CREATED:20230508T102220Z
LAST-MODIFIED:20230508T102220Z
UID:10000935-1688137200-1688148000@www.temps-libre.org
SUMMARY:Friperie Solidaire LES FRUSQUES DE CAROLE
DESCRIPTION:
URL:https://www.temps-libre.org/evenement/friperie-solidaire-les-frusques-de-carole-6/2023-06-30/
LOCATION:10 rue des marchands st genies de malgoires
END:VEVENT
BEGIN:VEVENT
DTSTART;TZID=Europe/Paris:20230630T150000
DTEND;TZID=Europe/Paris:20230630T180000
DTSTAMP:20260426T010829
CREATED:20230508T102132Z
LAST-MODIFIED:20230508T102132Z
UID:10000877-1688137200-1688148000@www.temps-libre.org
SUMMARY:Friperie Solidaire LES FRUSQUES DE CAROLE
DESCRIPTION:
URL:https://www.temps-libre.org/evenement/friperie-solidaire-les-frusques-de-carole-5/2023-06-30/
LOCATION:10 rue des marchands st genies de malgoires
END:VEVENT
BEGIN:VEVENT
DTSTART;TZID=Europe/Paris:20230630T150000
DTEND;TZID=Europe/Paris:20230630T180000
DTSTAMP:20260426T010829
CREATED:20230508T102049Z
LAST-MODIFIED:20230508T102049Z
UID:10000812-1688137200-1688148000@www.temps-libre.org
SUMMARY:Friperie Solidaire LES FRUSQUES DE CAROLE
DESCRIPTION:
URL:https://www.temps-libre.org/evenement/friperie-solidaire-les-frusques-de-carole-4/2023-06-30/
LOCATION:10 rue des marchands st genies de malgoires
END:VEVENT
BEGIN:VEVENT
DTSTART;TZID=Europe/Paris:20230630T150000
DTEND;TZID=Europe/Paris:20230630T180000
DTSTAMP:20260426T010829
CREATED:20230508T101912Z
LAST-MODIFIED:20230508T101912Z
UID:10000742-1688137200-1688148000@www.temps-libre.org
SUMMARY:Friperie Solidaire LES FRUSQUES DE CAROLE
DESCRIPTION:
URL:https://www.temps-libre.org/evenement/friperie-solidaire-les-frusques-de-carole-3/2023-06-30/
LOCATION:10 rue des marchands st genies de malgoires
END:VEVENT
BEGIN:VEVENT
DTSTART;TZID=Europe/Paris:20230630T090000
DTEND;TZID=Europe/Paris:20230630T120000
DTSTAMP:20260426T010829
CREATED:20230505T100446Z
LAST-MODIFIED:20230505T100533Z
UID:10000670-1688115600-1688126400@www.temps-libre.org
SUMMARY:Friperie Solidaire LES FRUSQUES DE CAROLE
DESCRIPTION:
URL:https://www.temps-libre.org/evenement/friperie-solidaire-les-frusques-de-carole-2/2023-06-30/
LOCATION:10 rue des marchands st genies de malgoires
END:VEVENT
BEGIN:VEVENT
DTSTART;TZID=Europe/Paris:20230629T150000
DTEND;TZID=Europe/Paris:20230629T180000
DTSTAMP:20260426T010830
CREATED:20230508T102334Z
LAST-MODIFIED:20230508T102334Z
UID:10000985-1688050800-1688061600@www.temps-libre.org
SUMMARY:Friperie Solidaire LES FRUSQUES DE CAROLE
DESCRIPTION:
URL:https://www.temps-libre.org/evenement/friperie-solidaire-les-frusques-de-carole-8/2023-06-29/
LOCATION:10 rue des marchands st genies de malgoires
END:VEVENT
BEGIN:VEVENT
DTSTART;TZID=Europe/Paris:20230629T150000
DTEND;TZID=Europe/Paris:20230629T180000
DTSTAMP:20260426T010830
CREATED:20230508T102258Z
LAST-MODIFIED:20230508T102258Z
UID:10001041-1688050800-1688061600@www.temps-libre.org
SUMMARY:Friperie Solidaire LES FRUSQUES DE CAROLE
DESCRIPTION:
URL:https://www.temps-libre.org/evenement/friperie-solidaire-les-frusques-de-carole-7/2023-06-29/
LOCATION:10 rue des marchands st genies de malgoires
END:VEVENT
BEGIN:VEVENT
DTSTART;TZID=Europe/Paris:20230629T150000
DTEND;TZID=Europe/Paris:20230629T180000
DTSTAMP:20260426T010830
CREATED:20230508T102220Z
LAST-MODIFIED:20230508T102220Z
UID:10000934-1688050800-1688061600@www.temps-libre.org
SUMMARY:Friperie Solidaire LES FRUSQUES DE CAROLE
DESCRIPTION:
URL:https://www.temps-libre.org/evenement/friperie-solidaire-les-frusques-de-carole-6/2023-06-29/
LOCATION:10 rue des marchands st genies de malgoires
END:VEVENT
BEGIN:VEVENT
DTSTART;TZID=Europe/Paris:20230629T150000
DTEND;TZID=Europe/Paris:20230629T180000
DTSTAMP:20260426T010830
CREATED:20230508T102132Z
LAST-MODIFIED:20230508T102132Z
UID:10000876-1688050800-1688061600@www.temps-libre.org
SUMMARY:Friperie Solidaire LES FRUSQUES DE CAROLE
DESCRIPTION:
URL:https://www.temps-libre.org/evenement/friperie-solidaire-les-frusques-de-carole-5/2023-06-29/
LOCATION:10 rue des marchands st genies de malgoires
END:VEVENT
BEGIN:VEVENT
DTSTART;TZID=Europe/Paris:20230629T150000
DTEND;TZID=Europe/Paris:20230629T180000
DTSTAMP:20260426T010830
CREATED:20230508T102049Z
LAST-MODIFIED:20230508T102049Z
UID:10000811-1688050800-1688061600@www.temps-libre.org
SUMMARY:Friperie Solidaire LES FRUSQUES DE CAROLE
DESCRIPTION:
URL:https://www.temps-libre.org/evenement/friperie-solidaire-les-frusques-de-carole-4/2023-06-29/
LOCATION:10 rue des marchands st genies de malgoires
END:VEVENT
BEGIN:VEVENT
DTSTART;TZID=Europe/Paris:20230629T150000
DTEND;TZID=Europe/Paris:20230629T180000
DTSTAMP:20260426T010830
CREATED:20230508T101912Z
LAST-MODIFIED:20230508T101912Z
UID:10000741-1688050800-1688061600@www.temps-libre.org
SUMMARY:Friperie Solidaire LES FRUSQUES DE CAROLE
DESCRIPTION:
URL:https://www.temps-libre.org/evenement/friperie-solidaire-les-frusques-de-carole-3/2023-06-29/
LOCATION:10 rue des marchands st genies de malgoires
END:VEVENT
BEGIN:VEVENT
DTSTART;TZID=Europe/Paris:20230629T090000
DTEND;TZID=Europe/Paris:20230629T120000
DTSTAMP:20260426T010830
CREATED:20230505T100446Z
LAST-MODIFIED:20230505T100533Z
UID:10000669-1688029200-1688040000@www.temps-libre.org
SUMMARY:Friperie Solidaire LES FRUSQUES DE CAROLE
DESCRIPTION:
URL:https://www.temps-libre.org/evenement/friperie-solidaire-les-frusques-de-carole-2/2023-06-29/
LOCATION:10 rue des marchands st genies de malgoires
END:VEVENT
BEGIN:VEVENT
DTSTART;TZID=Europe/Paris:20230628T150000
DTEND;TZID=Europe/Paris:20230628T180000
DTSTAMP:20260426T010830
CREATED:20230508T102334Z
LAST-MODIFIED:20230508T102334Z
UID:10000984-1687964400-1687975200@www.temps-libre.org
SUMMARY:Friperie Solidaire LES FRUSQUES DE CAROLE
DESCRIPTION:
URL:https://www.temps-libre.org/evenement/friperie-solidaire-les-frusques-de-carole-8/2023-06-28/
LOCATION:10 rue des marchands st genies de malgoires
END:VEVENT
BEGIN:VEVENT
DTSTART;TZID=Europe/Paris:20230628T150000
DTEND;TZID=Europe/Paris:20230628T180000
DTSTAMP:20260426T010830
CREATED:20230508T102258Z
LAST-MODIFIED:20230508T102258Z
UID:10001040-1687964400-1687975200@www.temps-libre.org
SUMMARY:Friperie Solidaire LES FRUSQUES DE CAROLE
DESCRIPTION:
URL:https://www.temps-libre.org/evenement/friperie-solidaire-les-frusques-de-carole-7/2023-06-28/
LOCATION:10 rue des marchands st genies de malgoires
END:VEVENT
BEGIN:VEVENT
DTSTART;TZID=Europe/Paris:20230628T150000
DTEND;TZID=Europe/Paris:20230628T180000
DTSTAMP:20260426T010830
CREATED:20230508T102220Z
LAST-MODIFIED:20230508T102220Z
UID:10000933-1687964400-1687975200@www.temps-libre.org
SUMMARY:Friperie Solidaire LES FRUSQUES DE CAROLE
DESCRIPTION:
URL:https://www.temps-libre.org/evenement/friperie-solidaire-les-frusques-de-carole-6/2023-06-28/
LOCATION:10 rue des marchands st genies de malgoires
END:VEVENT
BEGIN:VEVENT
DTSTART;TZID=Europe/Paris:20230628T150000
DTEND;TZID=Europe/Paris:20230628T180000
DTSTAMP:20260426T010830
CREATED:20230508T102132Z
LAST-MODIFIED:20230508T102132Z
UID:10000875-1687964400-1687975200@www.temps-libre.org
SUMMARY:Friperie Solidaire LES FRUSQUES DE CAROLE
DESCRIPTION:
URL:https://www.temps-libre.org/evenement/friperie-solidaire-les-frusques-de-carole-5/2023-06-28/
LOCATION:10 rue des marchands st genies de malgoires
END:VEVENT
BEGIN:VEVENT
DTSTART;TZID=Europe/Paris:20230628T150000
DTEND;TZID=Europe/Paris:20230628T180000
DTSTAMP:20260426T010830
CREATED:20230508T102049Z
LAST-MODIFIED:20230508T102049Z
UID:10000810-1687964400-1687975200@www.temps-libre.org
SUMMARY:Friperie Solidaire LES FRUSQUES DE CAROLE
DESCRIPTION:
URL:https://www.temps-libre.org/evenement/friperie-solidaire-les-frusques-de-carole-4/2023-06-28/
LOCATION:10 rue des marchands st genies de malgoires
END:VEVENT
BEGIN:VEVENT
DTSTART;TZID=Europe/Paris:20230628T150000
DTEND;TZID=Europe/Paris:20230628T180000
DTSTAMP:20260426T010830
CREATED:20230508T101912Z
LAST-MODIFIED:20230508T101912Z
UID:10000740-1687964400-1687975200@www.temps-libre.org
SUMMARY:Friperie Solidaire LES FRUSQUES DE CAROLE
DESCRIPTION:
URL:https://www.temps-libre.org/evenement/friperie-solidaire-les-frusques-de-carole-3/2023-06-28/
LOCATION:10 rue des marchands st genies de malgoires
END:VEVENT
BEGIN:VEVENT
DTSTART;TZID=Europe/Paris:20230628T090000
DTEND;TZID=Europe/Paris:20230628T120000
DTSTAMP:20260426T010830
CREATED:20230505T100446Z
LAST-MODIFIED:20230505T100533Z
UID:10000668-1687942800-1687953600@www.temps-libre.org
SUMMARY:Friperie Solidaire LES FRUSQUES DE CAROLE
DESCRIPTION:
URL:https://www.temps-libre.org/evenement/friperie-solidaire-les-frusques-de-carole-2/2023-06-28/
LOCATION:10 rue des marchands st genies de malgoires
END:VEVENT
BEGIN:VEVENT
DTSTART;TZID=Europe/Paris:20230627T150000
DTEND;TZID=Europe/Paris:20230627T180000
DTSTAMP:20260426T010830
CREATED:20230508T102334Z
LAST-MODIFIED:20230508T102334Z
UID:10000983-1687878000-1687888800@www.temps-libre.org
SUMMARY:Friperie Solidaire LES FRUSQUES DE CAROLE
DESCRIPTION:
URL:https://www.temps-libre.org/evenement/friperie-solidaire-les-frusques-de-carole-8/2023-06-27/
LOCATION:10 rue des marchands st genies de malgoires
END:VEVENT
BEGIN:VEVENT
DTSTART;TZID=Europe/Paris:20230627T150000
DTEND;TZID=Europe/Paris:20230627T180000
DTSTAMP:20260426T010830
CREATED:20230508T102258Z
LAST-MODIFIED:20230508T102258Z
UID:10001039-1687878000-1687888800@www.temps-libre.org
SUMMARY:Friperie Solidaire LES FRUSQUES DE CAROLE
DESCRIPTION:
URL:https://www.temps-libre.org/evenement/friperie-solidaire-les-frusques-de-carole-7/2023-06-27/
LOCATION:10 rue des marchands st genies de malgoires
END:VEVENT
BEGIN:VEVENT
DTSTART;TZID=Europe/Paris:20230627T150000
DTEND;TZID=Europe/Paris:20230627T180000
DTSTAMP:20260426T010830
CREATED:20230508T102220Z
LAST-MODIFIED:20230508T102220Z
UID:10000932-1687878000-1687888800@www.temps-libre.org
SUMMARY:Friperie Solidaire LES FRUSQUES DE CAROLE
DESCRIPTION:
URL:https://www.temps-libre.org/evenement/friperie-solidaire-les-frusques-de-carole-6/2023-06-27/
LOCATION:10 rue des marchands st genies de malgoires
END:VEVENT
BEGIN:VEVENT
DTSTART;TZID=Europe/Paris:20230627T150000
DTEND;TZID=Europe/Paris:20230627T180000
DTSTAMP:20260426T010830
CREATED:20230508T102132Z
LAST-MODIFIED:20230508T102132Z
UID:10000874-1687878000-1687888800@www.temps-libre.org
SUMMARY:Friperie Solidaire LES FRUSQUES DE CAROLE
DESCRIPTION:
URL:https://www.temps-libre.org/evenement/friperie-solidaire-les-frusques-de-carole-5/2023-06-27/
LOCATION:10 rue des marchands st genies de malgoires
END:VEVENT
END:VCALENDAR