BEGIN:VCALENDAR
VERSION:2.0
PRODID:-//Association Temps Libre - ECPv6.2.9//NONSGML v1.0//EN
CALSCALE:GREGORIAN
METHOD:PUBLISH
X-WR-CALNAME:Association Temps Libre
X-ORIGINAL-URL:https://www.temps-libre.org
X-WR-CALDESC:évènements pour Association Temps Libre
REFRESH-INTERVAL;VALUE=DURATION:PT1H
X-Robots-Tag:noindex
X-PUBLISHED-TTL:PT1H
BEGIN:VTIMEZONE
TZID:Europe/Paris
BEGIN:DAYLIGHT
TZOFFSETFROM:+0100
TZOFFSETTO:+0200
TZNAME:CEST
DTSTART:20230326T010000
END:DAYLIGHT
BEGIN:STANDARD
TZOFFSETFROM:+0200
TZOFFSETTO:+0100
TZNAME:CET
DTSTART:20231029T010000
END:STANDARD
END:VTIMEZONE
BEGIN:VEVENT
DTSTART;TZID=Europe/Paris:20230707T150000
DTEND;TZID=Europe/Paris:20230707T180000
DTSTAMP:20260425T174147
CREATED:20230508T102049Z
LAST-MODIFIED:20230508T102049Z
UID:10000819-1688742000-1688752800@www.temps-libre.org
SUMMARY:Friperie Solidaire LES FRUSQUES DE CAROLE
DESCRIPTION:
URL:https://www.temps-libre.org/evenement/friperie-solidaire-les-frusques-de-carole-4/2023-07-07/
LOCATION:10 rue des marchands st genies de malgoires
END:VEVENT
BEGIN:VEVENT
DTSTART;TZID=Europe/Paris:20230707T150000
DTEND;TZID=Europe/Paris:20230707T180000
DTSTAMP:20260425T174147
CREATED:20230508T101912Z
LAST-MODIFIED:20230508T101912Z
UID:10000749-1688742000-1688752800@www.temps-libre.org
SUMMARY:Friperie Solidaire LES FRUSQUES DE CAROLE
DESCRIPTION:
URL:https://www.temps-libre.org/evenement/friperie-solidaire-les-frusques-de-carole-3/2023-07-07/
LOCATION:10 rue des marchands st genies de malgoires
END:VEVENT
BEGIN:VEVENT
DTSTART;TZID=Europe/Paris:20230707T090000
DTEND;TZID=Europe/Paris:20230707T120000
DTSTAMP:20260425T174147
CREATED:20230505T100446Z
LAST-MODIFIED:20230505T100533Z
UID:10000677-1688720400-1688731200@www.temps-libre.org
SUMMARY:Friperie Solidaire LES FRUSQUES DE CAROLE
DESCRIPTION:
URL:https://www.temps-libre.org/evenement/friperie-solidaire-les-frusques-de-carole-2/2023-07-07/
LOCATION:10 rue des marchands st genies de malgoires
END:VEVENT
BEGIN:VEVENT
DTSTART;TZID=Europe/Paris:20230706T150000
DTEND;TZID=Europe/Paris:20230706T180000
DTSTAMP:20260425T174147
CREATED:20230508T102334Z
LAST-MODIFIED:20230508T102334Z
UID:10000992-1688655600-1688666400@www.temps-libre.org
SUMMARY:Friperie Solidaire LES FRUSQUES DE CAROLE
DESCRIPTION:
URL:https://www.temps-libre.org/evenement/friperie-solidaire-les-frusques-de-carole-8/2023-07-06/
LOCATION:10 rue des marchands st genies de malgoires
END:VEVENT
BEGIN:VEVENT
DTSTART;TZID=Europe/Paris:20230706T150000
DTEND;TZID=Europe/Paris:20230706T180000
DTSTAMP:20260425T174147
CREATED:20230508T102258Z
LAST-MODIFIED:20230508T102258Z
UID:10001048-1688655600-1688666400@www.temps-libre.org
SUMMARY:Friperie Solidaire LES FRUSQUES DE CAROLE
DESCRIPTION:
URL:https://www.temps-libre.org/evenement/friperie-solidaire-les-frusques-de-carole-7/2023-07-06/
LOCATION:10 rue des marchands st genies de malgoires
END:VEVENT
BEGIN:VEVENT
DTSTART;TZID=Europe/Paris:20230706T150000
DTEND;TZID=Europe/Paris:20230706T180000
DTSTAMP:20260425T174147
CREATED:20230508T102220Z
LAST-MODIFIED:20230508T102220Z
UID:10000941-1688655600-1688666400@www.temps-libre.org
SUMMARY:Friperie Solidaire LES FRUSQUES DE CAROLE
DESCRIPTION:
URL:https://www.temps-libre.org/evenement/friperie-solidaire-les-frusques-de-carole-6/2023-07-06/
LOCATION:10 rue des marchands st genies de malgoires
END:VEVENT
BEGIN:VEVENT
DTSTART;TZID=Europe/Paris:20230706T150000
DTEND;TZID=Europe/Paris:20230706T180000
DTSTAMP:20260425T174147
CREATED:20230508T102132Z
LAST-MODIFIED:20230508T102132Z
UID:10000883-1688655600-1688666400@www.temps-libre.org
SUMMARY:Friperie Solidaire LES FRUSQUES DE CAROLE
DESCRIPTION:
URL:https://www.temps-libre.org/evenement/friperie-solidaire-les-frusques-de-carole-5/2023-07-06/
LOCATION:10 rue des marchands st genies de malgoires
END:VEVENT
BEGIN:VEVENT
DTSTART;TZID=Europe/Paris:20230706T150000
DTEND;TZID=Europe/Paris:20230706T180000
DTSTAMP:20260425T174147
CREATED:20230508T102049Z
LAST-MODIFIED:20230508T102049Z
UID:10000818-1688655600-1688666400@www.temps-libre.org
SUMMARY:Friperie Solidaire LES FRUSQUES DE CAROLE
DESCRIPTION:
URL:https://www.temps-libre.org/evenement/friperie-solidaire-les-frusques-de-carole-4/2023-07-06/
LOCATION:10 rue des marchands st genies de malgoires
END:VEVENT
BEGIN:VEVENT
DTSTART;TZID=Europe/Paris:20230706T150000
DTEND;TZID=Europe/Paris:20230706T180000
DTSTAMP:20260425T174147
CREATED:20230508T101912Z
LAST-MODIFIED:20230508T101912Z
UID:10000748-1688655600-1688666400@www.temps-libre.org
SUMMARY:Friperie Solidaire LES FRUSQUES DE CAROLE
DESCRIPTION:
URL:https://www.temps-libre.org/evenement/friperie-solidaire-les-frusques-de-carole-3/2023-07-06/
LOCATION:10 rue des marchands st genies de malgoires
END:VEVENT
BEGIN:VEVENT
DTSTART;TZID=Europe/Paris:20230706T090000
DTEND;TZID=Europe/Paris:20230706T120000
DTSTAMP:20260425T174147
CREATED:20230505T100446Z
LAST-MODIFIED:20230505T100533Z
UID:10000676-1688634000-1688644800@www.temps-libre.org
SUMMARY:Friperie Solidaire LES FRUSQUES DE CAROLE
DESCRIPTION:
URL:https://www.temps-libre.org/evenement/friperie-solidaire-les-frusques-de-carole-2/2023-07-06/
LOCATION:10 rue des marchands st genies de malgoires
END:VEVENT
BEGIN:VEVENT
DTSTART;TZID=Europe/Paris:20230705T150000
DTEND;TZID=Europe/Paris:20230705T180000
DTSTAMP:20260425T174147
CREATED:20230508T102334Z
LAST-MODIFIED:20230508T102334Z
UID:10000991-1688569200-1688580000@www.temps-libre.org
SUMMARY:Friperie Solidaire LES FRUSQUES DE CAROLE
DESCRIPTION:
URL:https://www.temps-libre.org/evenement/friperie-solidaire-les-frusques-de-carole-8/2023-07-05/
LOCATION:10 rue des marchands st genies de malgoires
END:VEVENT
BEGIN:VEVENT
DTSTART;TZID=Europe/Paris:20230705T150000
DTEND;TZID=Europe/Paris:20230705T180000
DTSTAMP:20260425T174147
CREATED:20230508T102258Z
LAST-MODIFIED:20230508T102258Z
UID:10001047-1688569200-1688580000@www.temps-libre.org
SUMMARY:Friperie Solidaire LES FRUSQUES DE CAROLE
DESCRIPTION:
URL:https://www.temps-libre.org/evenement/friperie-solidaire-les-frusques-de-carole-7/2023-07-05/
LOCATION:10 rue des marchands st genies de malgoires
END:VEVENT
BEGIN:VEVENT
DTSTART;TZID=Europe/Paris:20230705T150000
DTEND;TZID=Europe/Paris:20230705T180000
DTSTAMP:20260425T174147
CREATED:20230508T102220Z
LAST-MODIFIED:20230508T102220Z
UID:10000940-1688569200-1688580000@www.temps-libre.org
SUMMARY:Friperie Solidaire LES FRUSQUES DE CAROLE
DESCRIPTION:
URL:https://www.temps-libre.org/evenement/friperie-solidaire-les-frusques-de-carole-6/2023-07-05/
LOCATION:10 rue des marchands st genies de malgoires
END:VEVENT
BEGIN:VEVENT
DTSTART;TZID=Europe/Paris:20230705T150000
DTEND;TZID=Europe/Paris:20230705T180000
DTSTAMP:20260425T174147
CREATED:20230508T102132Z
LAST-MODIFIED:20230508T102132Z
UID:10000882-1688569200-1688580000@www.temps-libre.org
SUMMARY:Friperie Solidaire LES FRUSQUES DE CAROLE
DESCRIPTION:
URL:https://www.temps-libre.org/evenement/friperie-solidaire-les-frusques-de-carole-5/2023-07-05/
LOCATION:10 rue des marchands st genies de malgoires
END:VEVENT
BEGIN:VEVENT
DTSTART;TZID=Europe/Paris:20230705T150000
DTEND;TZID=Europe/Paris:20230705T180000
DTSTAMP:20260425T174147
CREATED:20230508T102049Z
LAST-MODIFIED:20230508T102049Z
UID:10000817-1688569200-1688580000@www.temps-libre.org
SUMMARY:Friperie Solidaire LES FRUSQUES DE CAROLE
DESCRIPTION:
URL:https://www.temps-libre.org/evenement/friperie-solidaire-les-frusques-de-carole-4/2023-07-05/
LOCATION:10 rue des marchands st genies de malgoires
END:VEVENT
BEGIN:VEVENT
DTSTART;TZID=Europe/Paris:20230705T150000
DTEND;TZID=Europe/Paris:20230705T180000
DTSTAMP:20260425T174147
CREATED:20230508T101912Z
LAST-MODIFIED:20230508T101912Z
UID:10000747-1688569200-1688580000@www.temps-libre.org
SUMMARY:Friperie Solidaire LES FRUSQUES DE CAROLE
DESCRIPTION:
URL:https://www.temps-libre.org/evenement/friperie-solidaire-les-frusques-de-carole-3/2023-07-05/
LOCATION:10 rue des marchands st genies de malgoires
END:VEVENT
BEGIN:VEVENT
DTSTART;TZID=Europe/Paris:20230705T090000
DTEND;TZID=Europe/Paris:20230705T120000
DTSTAMP:20260425T174147
CREATED:20230505T100446Z
LAST-MODIFIED:20230505T100533Z
UID:10000675-1688547600-1688558400@www.temps-libre.org
SUMMARY:Friperie Solidaire LES FRUSQUES DE CAROLE
DESCRIPTION:
URL:https://www.temps-libre.org/evenement/friperie-solidaire-les-frusques-de-carole-2/2023-07-05/
LOCATION:10 rue des marchands st genies de malgoires
END:VEVENT
BEGIN:VEVENT
DTSTART;TZID=Europe/Paris:20230704T150000
DTEND;TZID=Europe/Paris:20230704T180000
DTSTAMP:20260425T174147
CREATED:20230508T102334Z
LAST-MODIFIED:20230508T102334Z
UID:10000990-1688482800-1688493600@www.temps-libre.org
SUMMARY:Friperie Solidaire LES FRUSQUES DE CAROLE
DESCRIPTION:
URL:https://www.temps-libre.org/evenement/friperie-solidaire-les-frusques-de-carole-8/2023-07-04/
LOCATION:10 rue des marchands st genies de malgoires
END:VEVENT
BEGIN:VEVENT
DTSTART;TZID=Europe/Paris:20230704T150000
DTEND;TZID=Europe/Paris:20230704T180000
DTSTAMP:20260425T174147
CREATED:20230508T102258Z
LAST-MODIFIED:20230508T102258Z
UID:10001046-1688482800-1688493600@www.temps-libre.org
SUMMARY:Friperie Solidaire LES FRUSQUES DE CAROLE
DESCRIPTION:
URL:https://www.temps-libre.org/evenement/friperie-solidaire-les-frusques-de-carole-7/2023-07-04/
LOCATION:10 rue des marchands st genies de malgoires
END:VEVENT
BEGIN:VEVENT
DTSTART;TZID=Europe/Paris:20230704T150000
DTEND;TZID=Europe/Paris:20230704T180000
DTSTAMP:20260425T174147
CREATED:20230508T102220Z
LAST-MODIFIED:20230508T102220Z
UID:10000939-1688482800-1688493600@www.temps-libre.org
SUMMARY:Friperie Solidaire LES FRUSQUES DE CAROLE
DESCRIPTION:
URL:https://www.temps-libre.org/evenement/friperie-solidaire-les-frusques-de-carole-6/2023-07-04/
LOCATION:10 rue des marchands st genies de malgoires
END:VEVENT
BEGIN:VEVENT
DTSTART;TZID=Europe/Paris:20230704T150000
DTEND;TZID=Europe/Paris:20230704T180000
DTSTAMP:20260425T174147
CREATED:20230508T102132Z
LAST-MODIFIED:20230508T102132Z
UID:10000881-1688482800-1688493600@www.temps-libre.org
SUMMARY:Friperie Solidaire LES FRUSQUES DE CAROLE
DESCRIPTION:
URL:https://www.temps-libre.org/evenement/friperie-solidaire-les-frusques-de-carole-5/2023-07-04/
LOCATION:10 rue des marchands st genies de malgoires
END:VEVENT
BEGIN:VEVENT
DTSTART;TZID=Europe/Paris:20230704T150000
DTEND;TZID=Europe/Paris:20230704T180000
DTSTAMP:20260425T174147
CREATED:20230508T102049Z
LAST-MODIFIED:20230508T102049Z
UID:10000816-1688482800-1688493600@www.temps-libre.org
SUMMARY:Friperie Solidaire LES FRUSQUES DE CAROLE
DESCRIPTION:
URL:https://www.temps-libre.org/evenement/friperie-solidaire-les-frusques-de-carole-4/2023-07-04/
LOCATION:10 rue des marchands st genies de malgoires
END:VEVENT
BEGIN:VEVENT
DTSTART;TZID=Europe/Paris:20230704T150000
DTEND;TZID=Europe/Paris:20230704T180000
DTSTAMP:20260425T174147
CREATED:20230508T101912Z
LAST-MODIFIED:20230508T101912Z
UID:10000746-1688482800-1688493600@www.temps-libre.org
SUMMARY:Friperie Solidaire LES FRUSQUES DE CAROLE
DESCRIPTION:
URL:https://www.temps-libre.org/evenement/friperie-solidaire-les-frusques-de-carole-3/2023-07-04/
LOCATION:10 rue des marchands st genies de malgoires
END:VEVENT
BEGIN:VEVENT
DTSTART;TZID=Europe/Paris:20230704T090000
DTEND;TZID=Europe/Paris:20230704T120000
DTSTAMP:20260425T174147
CREATED:20230505T100446Z
LAST-MODIFIED:20230505T100533Z
UID:10000674-1688461200-1688472000@www.temps-libre.org
SUMMARY:Friperie Solidaire LES FRUSQUES DE CAROLE
DESCRIPTION:
URL:https://www.temps-libre.org/evenement/friperie-solidaire-les-frusques-de-carole-2/2023-07-04/
LOCATION:10 rue des marchands st genies de malgoires
END:VEVENT
BEGIN:VEVENT
DTSTART;TZID=Europe/Paris:20230703T150000
DTEND;TZID=Europe/Paris:20230703T180000
DTSTAMP:20260425T174147
CREATED:20230508T102334Z
LAST-MODIFIED:20230508T102334Z
UID:10000989-1688396400-1688407200@www.temps-libre.org
SUMMARY:Friperie Solidaire LES FRUSQUES DE CAROLE
DESCRIPTION:
URL:https://www.temps-libre.org/evenement/friperie-solidaire-les-frusques-de-carole-8/2023-07-03/
LOCATION:10 rue des marchands st genies de malgoires
END:VEVENT
BEGIN:VEVENT
DTSTART;TZID=Europe/Paris:20230703T150000
DTEND;TZID=Europe/Paris:20230703T180000
DTSTAMP:20260425T174147
CREATED:20230508T102258Z
LAST-MODIFIED:20230508T102258Z
UID:10001045-1688396400-1688407200@www.temps-libre.org
SUMMARY:Friperie Solidaire LES FRUSQUES DE CAROLE
DESCRIPTION:
URL:https://www.temps-libre.org/evenement/friperie-solidaire-les-frusques-de-carole-7/2023-07-03/
LOCATION:10 rue des marchands st genies de malgoires
END:VEVENT
BEGIN:VEVENT
DTSTART;TZID=Europe/Paris:20230703T150000
DTEND;TZID=Europe/Paris:20230703T180000
DTSTAMP:20260425T174147
CREATED:20230508T102220Z
LAST-MODIFIED:20230508T102220Z
UID:10000938-1688396400-1688407200@www.temps-libre.org
SUMMARY:Friperie Solidaire LES FRUSQUES DE CAROLE
DESCRIPTION:
URL:https://www.temps-libre.org/evenement/friperie-solidaire-les-frusques-de-carole-6/2023-07-03/
LOCATION:10 rue des marchands st genies de malgoires
END:VEVENT
BEGIN:VEVENT
DTSTART;TZID=Europe/Paris:20230703T150000
DTEND;TZID=Europe/Paris:20230703T180000
DTSTAMP:20260425T174147
CREATED:20230508T102132Z
LAST-MODIFIED:20230508T102132Z
UID:10000880-1688396400-1688407200@www.temps-libre.org
SUMMARY:Friperie Solidaire LES FRUSQUES DE CAROLE
DESCRIPTION:
URL:https://www.temps-libre.org/evenement/friperie-solidaire-les-frusques-de-carole-5/2023-07-03/
LOCATION:10 rue des marchands st genies de malgoires
END:VEVENT
BEGIN:VEVENT
DTSTART;TZID=Europe/Paris:20230703T150000
DTEND;TZID=Europe/Paris:20230703T180000
DTSTAMP:20260425T174147
CREATED:20230508T102049Z
LAST-MODIFIED:20230508T102049Z
UID:10000815-1688396400-1688407200@www.temps-libre.org
SUMMARY:Friperie Solidaire LES FRUSQUES DE CAROLE
DESCRIPTION:
URL:https://www.temps-libre.org/evenement/friperie-solidaire-les-frusques-de-carole-4/2023-07-03/
LOCATION:10 rue des marchands st genies de malgoires
END:VEVENT
BEGIN:VEVENT
DTSTART;TZID=Europe/Paris:20230703T150000
DTEND;TZID=Europe/Paris:20230703T180000
DTSTAMP:20260425T174147
CREATED:20230508T101912Z
LAST-MODIFIED:20230508T101912Z
UID:10000745-1688396400-1688407200@www.temps-libre.org
SUMMARY:Friperie Solidaire LES FRUSQUES DE CAROLE
DESCRIPTION:
URL:https://www.temps-libre.org/evenement/friperie-solidaire-les-frusques-de-carole-3/2023-07-03/
LOCATION:10 rue des marchands st genies de malgoires
END:VEVENT
END:VCALENDAR