BEGIN:VCALENDAR
VERSION:2.0
PRODID:-//Association Temps Libre - ECPv6.2.9//NONSGML v1.0//EN
CALSCALE:GREGORIAN
METHOD:PUBLISH
X-WR-CALNAME:Association Temps Libre
X-ORIGINAL-URL:https://www.temps-libre.org
X-WR-CALDESC:évènements pour Association Temps Libre
REFRESH-INTERVAL;VALUE=DURATION:PT1H
X-Robots-Tag:noindex
X-PUBLISHED-TTL:PT1H
BEGIN:VTIMEZONE
TZID:Europe/Paris
BEGIN:DAYLIGHT
TZOFFSETFROM:+0100
TZOFFSETTO:+0200
TZNAME:CEST
DTSTART:20230326T010000
END:DAYLIGHT
BEGIN:STANDARD
TZOFFSETFROM:+0200
TZOFFSETTO:+0100
TZNAME:CET
DTSTART:20231029T010000
END:STANDARD
END:VTIMEZONE
BEGIN:VEVENT
DTSTART;TZID=Europe/Paris:20230717T150000
DTEND;TZID=Europe/Paris:20230717T180000
DTSTAMP:20260425T052712
CREATED:20230508T102049Z
LAST-MODIFIED:20230508T102049Z
UID:10000829-1689606000-1689616800@www.temps-libre.org
SUMMARY:Friperie Solidaire LES FRUSQUES DE CAROLE
DESCRIPTION:
URL:https://www.temps-libre.org/evenement/friperie-solidaire-les-frusques-de-carole-4/2023-07-17/
LOCATION:10 rue des marchands st genies de malgoires
END:VEVENT
BEGIN:VEVENT
DTSTART;TZID=Europe/Paris:20230717T150000
DTEND;TZID=Europe/Paris:20230717T180000
DTSTAMP:20260425T052712
CREATED:20230508T101912Z
LAST-MODIFIED:20230508T101912Z
UID:10000759-1689606000-1689616800@www.temps-libre.org
SUMMARY:Friperie Solidaire LES FRUSQUES DE CAROLE
DESCRIPTION:
URL:https://www.temps-libre.org/evenement/friperie-solidaire-les-frusques-de-carole-3/2023-07-17/
LOCATION:10 rue des marchands st genies de malgoires
END:VEVENT
BEGIN:VEVENT
DTSTART;TZID=Europe/Paris:20230717T090000
DTEND;TZID=Europe/Paris:20230717T120000
DTSTAMP:20260425T052712
CREATED:20230505T100446Z
LAST-MODIFIED:20230505T100533Z
UID:10000687-1689584400-1689595200@www.temps-libre.org
SUMMARY:Friperie Solidaire LES FRUSQUES DE CAROLE
DESCRIPTION:
URL:https://www.temps-libre.org/evenement/friperie-solidaire-les-frusques-de-carole-2/2023-07-17/
LOCATION:10 rue des marchands st genies de malgoires
END:VEVENT
BEGIN:VEVENT
DTSTART;TZID=Europe/Paris:20230716T150000
DTEND;TZID=Europe/Paris:20230716T180000
DTSTAMP:20260425T052712
CREATED:20230508T102334Z
LAST-MODIFIED:20230508T102334Z
UID:10001002-1689519600-1689530400@www.temps-libre.org
SUMMARY:Friperie Solidaire LES FRUSQUES DE CAROLE
DESCRIPTION:
URL:https://www.temps-libre.org/evenement/friperie-solidaire-les-frusques-de-carole-8/2023-07-16/
LOCATION:10 rue des marchands st genies de malgoires
END:VEVENT
BEGIN:VEVENT
DTSTART;TZID=Europe/Paris:20230716T150000
DTEND;TZID=Europe/Paris:20230716T180000
DTSTAMP:20260425T052712
CREATED:20230508T102258Z
LAST-MODIFIED:20230508T102258Z
UID:10001058-1689519600-1689530400@www.temps-libre.org
SUMMARY:Friperie Solidaire LES FRUSQUES DE CAROLE
DESCRIPTION:
URL:https://www.temps-libre.org/evenement/friperie-solidaire-les-frusques-de-carole-7/2023-07-16/
LOCATION:10 rue des marchands st genies de malgoires
END:VEVENT
BEGIN:VEVENT
DTSTART;TZID=Europe/Paris:20230716T150000
DTEND;TZID=Europe/Paris:20230716T180000
DTSTAMP:20260425T052712
CREATED:20230508T102220Z
LAST-MODIFIED:20230508T102220Z
UID:10000951-1689519600-1689530400@www.temps-libre.org
SUMMARY:Friperie Solidaire LES FRUSQUES DE CAROLE
DESCRIPTION:
URL:https://www.temps-libre.org/evenement/friperie-solidaire-les-frusques-de-carole-6/2023-07-16/
LOCATION:10 rue des marchands st genies de malgoires
END:VEVENT
BEGIN:VEVENT
DTSTART;TZID=Europe/Paris:20230716T150000
DTEND;TZID=Europe/Paris:20230716T180000
DTSTAMP:20260425T052712
CREATED:20230508T102132Z
LAST-MODIFIED:20230508T102132Z
UID:10000893-1689519600-1689530400@www.temps-libre.org
SUMMARY:Friperie Solidaire LES FRUSQUES DE CAROLE
DESCRIPTION:
URL:https://www.temps-libre.org/evenement/friperie-solidaire-les-frusques-de-carole-5/2023-07-16/
LOCATION:10 rue des marchands st genies de malgoires
END:VEVENT
BEGIN:VEVENT
DTSTART;TZID=Europe/Paris:20230716T150000
DTEND;TZID=Europe/Paris:20230716T180000
DTSTAMP:20260425T052712
CREATED:20230508T102049Z
LAST-MODIFIED:20230508T102049Z
UID:10000828-1689519600-1689530400@www.temps-libre.org
SUMMARY:Friperie Solidaire LES FRUSQUES DE CAROLE
DESCRIPTION:
URL:https://www.temps-libre.org/evenement/friperie-solidaire-les-frusques-de-carole-4/2023-07-16/
LOCATION:10 rue des marchands st genies de malgoires
END:VEVENT
BEGIN:VEVENT
DTSTART;TZID=Europe/Paris:20230716T150000
DTEND;TZID=Europe/Paris:20230716T180000
DTSTAMP:20260425T052712
CREATED:20230508T101912Z
LAST-MODIFIED:20230508T101912Z
UID:10000758-1689519600-1689530400@www.temps-libre.org
SUMMARY:Friperie Solidaire LES FRUSQUES DE CAROLE
DESCRIPTION:
URL:https://www.temps-libre.org/evenement/friperie-solidaire-les-frusques-de-carole-3/2023-07-16/
LOCATION:10 rue des marchands st genies de malgoires
END:VEVENT
BEGIN:VEVENT
DTSTART;TZID=Europe/Paris:20230716T090000
DTEND;TZID=Europe/Paris:20230716T120000
DTSTAMP:20260425T052712
CREATED:20230505T100446Z
LAST-MODIFIED:20230505T100533Z
UID:10000686-1689498000-1689508800@www.temps-libre.org
SUMMARY:Friperie Solidaire LES FRUSQUES DE CAROLE
DESCRIPTION:
URL:https://www.temps-libre.org/evenement/friperie-solidaire-les-frusques-de-carole-2/2023-07-16/
LOCATION:10 rue des marchands st genies de malgoires
END:VEVENT
BEGIN:VEVENT
DTSTART;TZID=Europe/Paris:20230715T150000
DTEND;TZID=Europe/Paris:20230715T180000
DTSTAMP:20260425T052712
CREATED:20230508T102334Z
LAST-MODIFIED:20230508T102334Z
UID:10001001-1689433200-1689444000@www.temps-libre.org
SUMMARY:Friperie Solidaire LES FRUSQUES DE CAROLE
DESCRIPTION:
URL:https://www.temps-libre.org/evenement/friperie-solidaire-les-frusques-de-carole-8/2023-07-15/
LOCATION:10 rue des marchands st genies de malgoires
END:VEVENT
BEGIN:VEVENT
DTSTART;TZID=Europe/Paris:20230715T150000
DTEND;TZID=Europe/Paris:20230715T180000
DTSTAMP:20260425T052712
CREATED:20230508T102258Z
LAST-MODIFIED:20230508T102258Z
UID:10001057-1689433200-1689444000@www.temps-libre.org
SUMMARY:Friperie Solidaire LES FRUSQUES DE CAROLE
DESCRIPTION:
URL:https://www.temps-libre.org/evenement/friperie-solidaire-les-frusques-de-carole-7/2023-07-15/
LOCATION:10 rue des marchands st genies de malgoires
END:VEVENT
BEGIN:VEVENT
DTSTART;TZID=Europe/Paris:20230715T150000
DTEND;TZID=Europe/Paris:20230715T180000
DTSTAMP:20260425T052712
CREATED:20230508T102220Z
LAST-MODIFIED:20230508T102220Z
UID:10000950-1689433200-1689444000@www.temps-libre.org
SUMMARY:Friperie Solidaire LES FRUSQUES DE CAROLE
DESCRIPTION:
URL:https://www.temps-libre.org/evenement/friperie-solidaire-les-frusques-de-carole-6/2023-07-15/
LOCATION:10 rue des marchands st genies de malgoires
END:VEVENT
BEGIN:VEVENT
DTSTART;TZID=Europe/Paris:20230715T150000
DTEND;TZID=Europe/Paris:20230715T180000
DTSTAMP:20260425T052712
CREATED:20230508T102132Z
LAST-MODIFIED:20230508T102132Z
UID:10000892-1689433200-1689444000@www.temps-libre.org
SUMMARY:Friperie Solidaire LES FRUSQUES DE CAROLE
DESCRIPTION:
URL:https://www.temps-libre.org/evenement/friperie-solidaire-les-frusques-de-carole-5/2023-07-15/
LOCATION:10 rue des marchands st genies de malgoires
END:VEVENT
BEGIN:VEVENT
DTSTART;TZID=Europe/Paris:20230715T150000
DTEND;TZID=Europe/Paris:20230715T180000
DTSTAMP:20260425T052712
CREATED:20230508T102049Z
LAST-MODIFIED:20230508T102049Z
UID:10000827-1689433200-1689444000@www.temps-libre.org
SUMMARY:Friperie Solidaire LES FRUSQUES DE CAROLE
DESCRIPTION:
URL:https://www.temps-libre.org/evenement/friperie-solidaire-les-frusques-de-carole-4/2023-07-15/
LOCATION:10 rue des marchands st genies de malgoires
END:VEVENT
BEGIN:VEVENT
DTSTART;TZID=Europe/Paris:20230715T150000
DTEND;TZID=Europe/Paris:20230715T180000
DTSTAMP:20260425T052712
CREATED:20230508T101912Z
LAST-MODIFIED:20230508T101912Z
UID:10000757-1689433200-1689444000@www.temps-libre.org
SUMMARY:Friperie Solidaire LES FRUSQUES DE CAROLE
DESCRIPTION:
URL:https://www.temps-libre.org/evenement/friperie-solidaire-les-frusques-de-carole-3/2023-07-15/
LOCATION:10 rue des marchands st genies de malgoires
END:VEVENT
BEGIN:VEVENT
DTSTART;TZID=Europe/Paris:20230715T090000
DTEND;TZID=Europe/Paris:20230715T120000
DTSTAMP:20260425T052712
CREATED:20230505T100446Z
LAST-MODIFIED:20230505T100533Z
UID:10000685-1689411600-1689422400@www.temps-libre.org
SUMMARY:Friperie Solidaire LES FRUSQUES DE CAROLE
DESCRIPTION:
URL:https://www.temps-libre.org/evenement/friperie-solidaire-les-frusques-de-carole-2/2023-07-15/
LOCATION:10 rue des marchands st genies de malgoires
END:VEVENT
BEGIN:VEVENT
DTSTART;TZID=Europe/Paris:20230714T150000
DTEND;TZID=Europe/Paris:20230714T180000
DTSTAMP:20260425T052712
CREATED:20230508T102334Z
LAST-MODIFIED:20230508T102334Z
UID:10001000-1689346800-1689357600@www.temps-libre.org
SUMMARY:Friperie Solidaire LES FRUSQUES DE CAROLE
DESCRIPTION:
URL:https://www.temps-libre.org/evenement/friperie-solidaire-les-frusques-de-carole-8/2023-07-14/
LOCATION:10 rue des marchands st genies de malgoires
END:VEVENT
BEGIN:VEVENT
DTSTART;TZID=Europe/Paris:20230714T150000
DTEND;TZID=Europe/Paris:20230714T180000
DTSTAMP:20260425T052712
CREATED:20230508T102258Z
LAST-MODIFIED:20230508T102258Z
UID:10001056-1689346800-1689357600@www.temps-libre.org
SUMMARY:Friperie Solidaire LES FRUSQUES DE CAROLE
DESCRIPTION:
URL:https://www.temps-libre.org/evenement/friperie-solidaire-les-frusques-de-carole-7/2023-07-14/
LOCATION:10 rue des marchands st genies de malgoires
END:VEVENT
BEGIN:VEVENT
DTSTART;TZID=Europe/Paris:20230714T150000
DTEND;TZID=Europe/Paris:20230714T180000
DTSTAMP:20260425T052712
CREATED:20230508T102220Z
LAST-MODIFIED:20230508T102220Z
UID:10000949-1689346800-1689357600@www.temps-libre.org
SUMMARY:Friperie Solidaire LES FRUSQUES DE CAROLE
DESCRIPTION:
URL:https://www.temps-libre.org/evenement/friperie-solidaire-les-frusques-de-carole-6/2023-07-14/
LOCATION:10 rue des marchands st genies de malgoires
END:VEVENT
BEGIN:VEVENT
DTSTART;TZID=Europe/Paris:20230714T150000
DTEND;TZID=Europe/Paris:20230714T180000
DTSTAMP:20260425T052712
CREATED:20230508T102132Z
LAST-MODIFIED:20230508T102132Z
UID:10000891-1689346800-1689357600@www.temps-libre.org
SUMMARY:Friperie Solidaire LES FRUSQUES DE CAROLE
DESCRIPTION:
URL:https://www.temps-libre.org/evenement/friperie-solidaire-les-frusques-de-carole-5/2023-07-14/
LOCATION:10 rue des marchands st genies de malgoires
END:VEVENT
BEGIN:VEVENT
DTSTART;TZID=Europe/Paris:20230714T150000
DTEND;TZID=Europe/Paris:20230714T180000
DTSTAMP:20260425T052712
CREATED:20230508T102049Z
LAST-MODIFIED:20230508T102049Z
UID:10000826-1689346800-1689357600@www.temps-libre.org
SUMMARY:Friperie Solidaire LES FRUSQUES DE CAROLE
DESCRIPTION:
URL:https://www.temps-libre.org/evenement/friperie-solidaire-les-frusques-de-carole-4/2023-07-14/
LOCATION:10 rue des marchands st genies de malgoires
END:VEVENT
BEGIN:VEVENT
DTSTART;TZID=Europe/Paris:20230714T150000
DTEND;TZID=Europe/Paris:20230714T180000
DTSTAMP:20260425T052712
CREATED:20230508T101912Z
LAST-MODIFIED:20230508T101912Z
UID:10000756-1689346800-1689357600@www.temps-libre.org
SUMMARY:Friperie Solidaire LES FRUSQUES DE CAROLE
DESCRIPTION:
URL:https://www.temps-libre.org/evenement/friperie-solidaire-les-frusques-de-carole-3/2023-07-14/
LOCATION:10 rue des marchands st genies de malgoires
END:VEVENT
BEGIN:VEVENT
DTSTART;TZID=Europe/Paris:20230714T090000
DTEND;TZID=Europe/Paris:20230714T120000
DTSTAMP:20260425T052712
CREATED:20230505T100446Z
LAST-MODIFIED:20230505T100533Z
UID:10000684-1689325200-1689336000@www.temps-libre.org
SUMMARY:Friperie Solidaire LES FRUSQUES DE CAROLE
DESCRIPTION:
URL:https://www.temps-libre.org/evenement/friperie-solidaire-les-frusques-de-carole-2/2023-07-14/
LOCATION:10 rue des marchands st genies de malgoires
END:VEVENT
BEGIN:VEVENT
DTSTART;TZID=Europe/Paris:20230713T150000
DTEND;TZID=Europe/Paris:20230713T180000
DTSTAMP:20260425T052712
CREATED:20230508T102334Z
LAST-MODIFIED:20230508T102334Z
UID:10000999-1689260400-1689271200@www.temps-libre.org
SUMMARY:Friperie Solidaire LES FRUSQUES DE CAROLE
DESCRIPTION:
URL:https://www.temps-libre.org/evenement/friperie-solidaire-les-frusques-de-carole-8/2023-07-13/
LOCATION:10 rue des marchands st genies de malgoires
END:VEVENT
BEGIN:VEVENT
DTSTART;TZID=Europe/Paris:20230713T150000
DTEND;TZID=Europe/Paris:20230713T180000
DTSTAMP:20260425T052712
CREATED:20230508T102258Z
LAST-MODIFIED:20230508T102258Z
UID:10001055-1689260400-1689271200@www.temps-libre.org
SUMMARY:Friperie Solidaire LES FRUSQUES DE CAROLE
DESCRIPTION:
URL:https://www.temps-libre.org/evenement/friperie-solidaire-les-frusques-de-carole-7/2023-07-13/
LOCATION:10 rue des marchands st genies de malgoires
END:VEVENT
BEGIN:VEVENT
DTSTART;TZID=Europe/Paris:20230713T150000
DTEND;TZID=Europe/Paris:20230713T180000
DTSTAMP:20260425T052712
CREATED:20230508T102220Z
LAST-MODIFIED:20230508T102220Z
UID:10000948-1689260400-1689271200@www.temps-libre.org
SUMMARY:Friperie Solidaire LES FRUSQUES DE CAROLE
DESCRIPTION:
URL:https://www.temps-libre.org/evenement/friperie-solidaire-les-frusques-de-carole-6/2023-07-13/
LOCATION:10 rue des marchands st genies de malgoires
END:VEVENT
BEGIN:VEVENT
DTSTART;TZID=Europe/Paris:20230713T150000
DTEND;TZID=Europe/Paris:20230713T180000
DTSTAMP:20260425T052712
CREATED:20230508T102132Z
LAST-MODIFIED:20230508T102132Z
UID:10000890-1689260400-1689271200@www.temps-libre.org
SUMMARY:Friperie Solidaire LES FRUSQUES DE CAROLE
DESCRIPTION:
URL:https://www.temps-libre.org/evenement/friperie-solidaire-les-frusques-de-carole-5/2023-07-13/
LOCATION:10 rue des marchands st genies de malgoires
END:VEVENT
BEGIN:VEVENT
DTSTART;TZID=Europe/Paris:20230713T150000
DTEND;TZID=Europe/Paris:20230713T180000
DTSTAMP:20260425T052712
CREATED:20230508T102049Z
LAST-MODIFIED:20230508T102049Z
UID:10000825-1689260400-1689271200@www.temps-libre.org
SUMMARY:Friperie Solidaire LES FRUSQUES DE CAROLE
DESCRIPTION:
URL:https://www.temps-libre.org/evenement/friperie-solidaire-les-frusques-de-carole-4/2023-07-13/
LOCATION:10 rue des marchands st genies de malgoires
END:VEVENT
BEGIN:VEVENT
DTSTART;TZID=Europe/Paris:20230713T150000
DTEND;TZID=Europe/Paris:20230713T180000
DTSTAMP:20260425T052712
CREATED:20230508T101912Z
LAST-MODIFIED:20230508T101912Z
UID:10000755-1689260400-1689271200@www.temps-libre.org
SUMMARY:Friperie Solidaire LES FRUSQUES DE CAROLE
DESCRIPTION:
URL:https://www.temps-libre.org/evenement/friperie-solidaire-les-frusques-de-carole-3/2023-07-13/
LOCATION:10 rue des marchands st genies de malgoires
END:VEVENT
END:VCALENDAR