BEGIN:VCALENDAR
VERSION:2.0
PRODID:-//Association Temps Libre - ECPv6.2.9//NONSGML v1.0//EN
CALSCALE:GREGORIAN
METHOD:PUBLISH
X-ORIGINAL-URL:https://www.temps-libre.org
X-WR-CALDESC:évènements pour Association Temps Libre
REFRESH-INTERVAL;VALUE=DURATION:PT1H
X-Robots-Tag:noindex
X-PUBLISHED-TTL:PT1H
BEGIN:VTIMEZONE
TZID:Europe/Paris
BEGIN:DAYLIGHT
TZOFFSETFROM:+0100
TZOFFSETTO:+0200
TZNAME:CEST
DTSTART:20260329T010000
END:DAYLIGHT
BEGIN:STANDARD
TZOFFSETFROM:+0200
TZOFFSETTO:+0100
TZNAME:CET
DTSTART:20261025T010000
END:STANDARD
END:VTIMEZONE
BEGIN:VEVENT
DTSTART;TZID=Europe/Paris:20260420T090000
DTEND;TZID=Europe/Paris:20260424T170000
DTSTAMP:20260424T054552
CREATED:20260319T142246Z
LAST-MODIFIED:20260319T142246Z
UID:10001297-1776675600-1777050000@www.temps-libre.org
SUMMARY:Stage Multisports
DESCRIPTION:Le stage sportif interassociatif \nDu 20 au 24 avril 2026\, nous transformons la Halle des Sports de Saint-Geniès-de-Malgoirès en un véritable terrain de découverte. Grâce à la mobilisation de 9 associations locales\, vos enfants pourront s’initier à des disciplines variées dans une ambiance de partage et de fair-play. \nLe programme de la semaine : \n\nTir à l’arc\nBoxe\nHip-hop\nRoller\nHandball\nRugby\nRenforcement musculaire\nTennis\nMultibudo (arts martiaux et sabre)\n\nContactez-nous directement à l’Espace socioculturel Temps Libre pour réserver à secretariat@temps-libre.org ou au 04 66 63 14 36..
URL:https://www.temps-libre.org/evenement/stage-multisports/
LOCATION:Salle Halle des Sports à ST GENIES DE MALGOIRES
ATTACH;FMTTYPE=image/jpeg:https://www.temps-libre.org/wp-content/uploads/sites/19/2026/03/Satge-multisports-printemps-2026.jpg
END:VEVENT
BEGIN:VEVENT
DTSTART;TZID=Europe/Paris:20260529T190000
DTEND;TZID=Europe/Paris:20260529T190000
DTSTAMP:20260424T054552
CREATED:20260413T122516Z
LAST-MODIFIED:20260413T122516Z
UID:10001302-1780081200-1780081200@www.temps-libre.org
SUMMARY:FESTIVAL DE L'ORTALET 2026
DESCRIPTION:Nous avons le plaisir de vous annoncer le lancement du Festival de l’Ortalet 2026 ! \nDe mai à septembre\, le jardin pédagogique de l’Ortalet accueillera 9 rendez-vous festifs et musicaux\, toujours dans une ambiance conviviale et en pleine nature. Comme chaque année\, l’entrée est libre et ouverte à toutes et tous. \nAu programme : \n\n5 concerts guinguettes les vendredis soirs\n1 tremplin musical pour découvrir de nouveaux talents\n2 soirées bœufs pour partager la scène ensemble\n1 guinguette spéciale pitchounes un samedi matin\n\nSur place\, vous pourrez profiter d’une buvette et d’une restauration\, pour prolonger les soirées autour d’un moment convivial. \nCe festival est avant tout un projet collectif\, porté par une équipe de bénévoles d’enfer\, sans qui rien ne serait possible. Un grand merci à eux pour leur énergie et leur engagement ! \nEt cette année encore\, la programmation s’annonce encore plus incroyable : on a hâte de vous la faire découvrir ! \nNous espérons vous retrouver nombreux au jardin de l’Ortalet pour partager ces beaux moments de culture\, de musique et de convivialité.
URL:https://www.temps-libre.org/evenement/festival-de-lortalet-2026/
LOCATION:Jardin l’Ortalet\, chemin de tavillan\, Saint-Geniès de Malgoirès\, 30190\, France
ATTACH;FMTTYPE=image/png:https://www.temps-libre.org/wp-content/uploads/sites/19/2026/04/Programme-Ortalet-26.png
END:VEVENT
BEGIN:VEVENT
DTSTART;TZID=Europe/Paris:20260530T090000
DTEND;TZID=Europe/Paris:20260530T180000
DTSTAMP:20260424T054552
CREATED:20260407T083028Z
LAST-MODIFIED:20260407T083028Z
UID:10001301-1780131600-1780164000@www.temps-libre.org
SUMMARY:EXPO ÉPHÉMÈRE 2026
DESCRIPTION:Expo Éphémère 2026 – Samedi 30 mai\, de 9h à 18h\nEspace socio‑culturel Temps Libre – Saint‑Geniès‑de‑Malgoirès \nL’Espace socio‑culturel Temps Libre accueille une nouvelle édition de l’Expo Éphémère\, un rendez‑vous dédié à la création artistique sous toutes ses formes.\nSculpteurs\, céramistes et créateurs d’art seront présents tout au long de la journée pour présenter leurs œuvres et échanger avec le public. \nUne petite restauration et une buvette seront proposées sur place.\nLa journée sera rythmée par des animations musicales assurées par trois groupes locaux\, entre rock et funk. \nÀ la veille de la Fête des Mères\, cet événement est l’occasion idéale de découvrir des pièces uniques et de trouver un cadeau original dans une ambiance chaleureuse et conviviale.
URL:https://www.temps-libre.org/evenement/expo-ephemere-2026/
LOCATION:Espace Socio Culturel Temps Libre
ATTACH;FMTTYPE=application/pdf:https://www.temps-libre.org/wp-content/uploads/sites/19/2026/04/Expo-ephemere-TEMPS-LIBRE-A4.pdf
END:VEVENT
END:VCALENDAR