BEGIN:VCALENDAR
VERSION:2.0
PRODID:-//Association Temps Libre - ECPv6.2.9//NONSGML v1.0//EN
CALSCALE:GREGORIAN
METHOD:PUBLISH
X-ORIGINAL-URL:https://www.temps-libre.org
X-WR-CALDESC:évènements pour Association Temps Libre
REFRESH-INTERVAL;VALUE=DURATION:PT1H
X-Robots-Tag:noindex
X-PUBLISHED-TTL:PT1H
BEGIN:VTIMEZONE
TZID:Europe/Paris
BEGIN:DAYLIGHT
TZOFFSETFROM:+0100
TZOFFSETTO:+0200
TZNAME:CEST
DTSTART:20230326T010000
END:DAYLIGHT
BEGIN:STANDARD
TZOFFSETFROM:+0200
TZOFFSETTO:+0100
TZNAME:CET
DTSTART:20231029T010000
END:STANDARD
BEGIN:DAYLIGHT
TZOFFSETFROM:+0100
TZOFFSETTO:+0200
TZNAME:CEST
DTSTART:20240331T010000
END:DAYLIGHT
BEGIN:STANDARD
TZOFFSETFROM:+0200
TZOFFSETTO:+0100
TZNAME:CET
DTSTART:20241027T010000
END:STANDARD
END:VTIMEZONE
BEGIN:VEVENT
DTSTART;TZID=Europe/Paris:20231206T163000
DTEND;TZID=Europe/Paris:20231206T180000
DTSTAMP:20260425T014441
CREATED:20231129T142234Z
LAST-MODIFIED:20231129T142632Z
UID:10001151-1701880200-1701885600@www.temps-libre.org
SUMMARY:Vente Confiture de Citre
DESCRIPTION:LES CONFITURES DE MONIQUE ET MARCEL \nDepuis plusieurs années\, les bénévoles de l’association Temps Libre organisent aux vacances d’automne la confection de la confiture de Gigérine selon la recette de Monique et Marcel Piazza. \nCette confiture est à base de “citre”\, de citron\, de sucre et de vanille.C’est peu dire qu’elle est appréciée et attendue chaque année. \nLe pot est à 3.50 €\, en plus d’être délicieuse elles sont aussi une très bonne idée de cadeau de Noël ou autres. C’est l’occasion d’offrir un cadeau unique pour soutenir une belle cause. Et oui elles sont uniques car la recette de Monique et Marcel Piazza est aussi secrète que celle du coca cola ou de la potion magique de Panoramix leur druide\, c’est dire…
URL:https://www.temps-libre.org/evenement/vente-confiture-de-citre/2023-12-06/
LOCATION:TERRE DE LOISIRS POLE ENFANCE JEUNESSE
ORGANIZER;CN="Alsh TERRE DE LOISIRS":MAILTO:terredeloisirs@temps-libre.org
END:VEVENT
BEGIN:VEVENT
DTSTART;TZID=Europe/Paris:20231213T163000
DTEND;TZID=Europe/Paris:20231213T180000
DTSTAMP:20260425T014441
CREATED:20231129T142234Z
LAST-MODIFIED:20231129T142632Z
UID:10001148-1702485000-1702490400@www.temps-libre.org
SUMMARY:Vente Confiture de Citre
DESCRIPTION:LES CONFITURES DE MONIQUE ET MARCEL \nDepuis plusieurs années\, les bénévoles de l’association Temps Libre organisent aux vacances d’automne la confection de la confiture de Gigérine selon la recette de Monique et Marcel Piazza. \nCette confiture est à base de “citre”\, de citron\, de sucre et de vanille.C’est peu dire qu’elle est appréciée et attendue chaque année. \nLe pot est à 3.50 €\, en plus d’être délicieuse elles sont aussi une très bonne idée de cadeau de Noël ou autres. C’est l’occasion d’offrir un cadeau unique pour soutenir une belle cause. Et oui elles sont uniques car la recette de Monique et Marcel Piazza est aussi secrète que celle du coca cola ou de la potion magique de Panoramix leur druide\, c’est dire…
URL:https://www.temps-libre.org/evenement/vente-confiture-de-citre/2023-12-13/
LOCATION:TERRE DE LOISIRS POLE ENFANCE JEUNESSE
ORGANIZER;CN="Alsh TERRE DE LOISIRS":MAILTO:terredeloisirs@temps-libre.org
END:VEVENT
BEGIN:VEVENT
DTSTART;TZID=Europe/Paris:20231220T163000
DTEND;TZID=Europe/Paris:20231220T180000
DTSTAMP:20260425T014441
CREATED:20231129T142234Z
LAST-MODIFIED:20231129T142632Z
UID:10001150-1703089800-1703095200@www.temps-libre.org
SUMMARY:Vente Confiture de Citre
DESCRIPTION:LES CONFITURES DE MONIQUE ET MARCEL \nDepuis plusieurs années\, les bénévoles de l’association Temps Libre organisent aux vacances d’automne la confection de la confiture de Gigérine selon la recette de Monique et Marcel Piazza. \nCette confiture est à base de “citre”\, de citron\, de sucre et de vanille.C’est peu dire qu’elle est appréciée et attendue chaque année. \nLe pot est à 3.50 €\, en plus d’être délicieuse elles sont aussi une très bonne idée de cadeau de Noël ou autres. C’est l’occasion d’offrir un cadeau unique pour soutenir une belle cause. Et oui elles sont uniques car la recette de Monique et Marcel Piazza est aussi secrète que celle du coca cola ou de la potion magique de Panoramix leur druide\, c’est dire…
URL:https://www.temps-libre.org/evenement/vente-confiture-de-citre/2023-12-20/
LOCATION:TERRE DE LOISIRS POLE ENFANCE JEUNESSE
ORGANIZER;CN="Alsh TERRE DE LOISIRS":MAILTO:terredeloisirs@temps-libre.org
END:VEVENT
BEGIN:VEVENT
DTSTART;TZID=Europe/Paris:20231225T080000
DTEND;TZID=Europe/Paris:20240105T170000
DTSTAMP:20260425T014441
CREATED:20231204T101919Z
LAST-MODIFIED:20231204T101919Z
UID:10001153-1703491200-1704474000@www.temps-libre.org
SUMMARY:Fermeture Annuelle
DESCRIPTION:
URL:https://www.temps-libre.org/evenement/fermeture-annuelle-2/
LOCATION:TERRE DE LOISIRS POLE ENFANCE JEUNESSE
ORGANIZER;CN="Alsh TERRE DE LOISIRS":MAILTO:terredeloisirs@temps-libre.org
END:VEVENT
BEGIN:VEVENT
DTSTART;TZID=Europe/Paris:20240601T083000
DTEND;TZID=Europe/Paris:20241002T170000
DTSTAMP:20260425T014441
CREATED:20240221T160814Z
LAST-MODIFIED:20241128T154129Z
UID:10001173-1717230600-1727888400@www.temps-libre.org
SUMMARY:Alsh "TERRE DE LOISIRS" Rentrée Scolaire 2024-2025
DESCRIPTION:
URL:https://www.temps-libre.org/evenement/alsh-terre-de-loisirs-rentree-scolaire-2024-2025/
LOCATION:TERRE DE LOISIRS POLE ENFANCE JEUNESSE
ORGANIZER;CN="Alsh TERRE DE LOISIRS":MAILTO:terredeloisirs@temps-libre.org
END:VEVENT
END:VCALENDAR