BEGIN:VCALENDAR
VERSION:2.0
PRODID:-//Association Temps Libre - ECPv6.2.9//NONSGML v1.0//EN
CALSCALE:GREGORIAN
METHOD:PUBLISH
X-WR-CALNAME:Association Temps Libre
X-ORIGINAL-URL:https://www.temps-libre.org
X-WR-CALDESC:évènements pour Association Temps Libre
REFRESH-INTERVAL;VALUE=DURATION:PT1H
X-Robots-Tag:noindex
X-PUBLISHED-TTL:PT1H
BEGIN:VTIMEZONE
TZID:Europe/Paris
BEGIN:DAYLIGHT
TZOFFSETFROM:+0100
TZOFFSETTO:+0200
TZNAME:CEST
DTSTART:20260329T010000
END:DAYLIGHT
BEGIN:STANDARD
TZOFFSETFROM:+0200
TZOFFSETTO:+0100
TZNAME:CET
DTSTART:20261025T010000
END:STANDARD
END:VTIMEZONE
BEGIN:VEVENT
DTSTART;TZID=Europe/Paris:20260505T163000
DTEND;TZID=Europe/Paris:20260505T190000
DTSTAMP:20260424T110405
CREATED:20260422T124203Z
LAST-MODIFIED:20260422T144636Z
UID:10001303-1777998600-1778007600@www.temps-libre.org
SUMMARY:Grandir ensemble sur la gestion du temps d'écran en famille
DESCRIPTION:Grandir ensemble sur la gestion du temps d’écran en famille : \nMardi 5 mai 2026 de 16h45 à 18h45\, le pôle famille et le LAEP gérés par l’association Temps Libre vous invitent à un temps d’échange sur la thématique : « la gestion du temps d’écran en famille »\, coanimé par Angèle FARALDO des Francas du Gard et Laura MOULIN de l’UDAF. \nAu programme :\n– Temps d’accueil et recueil des questionnements\n– Présentation des risques liés à l’utilisation des écrans en fonction des âges et besoins des enfants\n– Atelier parent-enfant : réalisation d’un outil de gestion des temps d’écran en famille \nCet atelier Grandir Ensemble se déroule au sein de la salle polyvalente de l’école de St-Geniès de Malgoirès. \nL’atelier est gratuit et à destination des familles avec leur enfant à partir de 6 ans. \nRenseignements et inscriptions auprès de Johanna NONNON : 07 83 53 00 02 / johanna.nonnon@temps-libre.org
URL:https://www.temps-libre.org/evenement/grandir-ensemble-sur-la-gestion-du-temps-decran-en-famille/
LOCATION:salle polyvalente de l’école de St-Geniès de Malgoirès.\, St Geniès de Malgoirès\, 30190
ATTACH;FMTTYPE=image/jpeg:https://www.temps-libre.org/wp-content/uploads/sites/19/2026/04/4.jpg
ORGANIZER;CN="P%C3%B4le Famille":MAILTO:kiliane.grenier@temps-libre.org
END:VEVENT
END:VCALENDAR